Workbook
Name _266_0001: Tabla14[266 0001]
Name _266_0003: Tabla18[266 0003]
Name _266_0004: Tabla39[266 0004]
Name _266_0005: Tabla43[266 0005]
Name _266_0006: Tabla44[266 0006]
Name _266_0007: Tabla45[266 0007]
Name _266_9999: Tabla46[266 9999]
Name _51: Tabla5[51]
Name _53: Tabla7[53]
Name _57: Tabla8[57]
Name _73: Tabla49[73]
Name _84: Tabla50[84]
Name _99: Tabla10[99]
Name AC: Tabla36[AC]
Name CAPITAL: Listas2!$F$21
Name COORDINACIÓN_GENERAL_ADMINISTRATIVA_FINANCIERA: Tabla22[COORDINACIÓN GENERAL ADMINISTRATIVA FINANCIERA]
Name COORDINACIÓN_ZONAL: Tabla21[COORDINACIÓN ZONAL]
Name COORDINACIÓN_ZONAL_1: Tabla27[COORDINACIÓN ZONAL 1]
Name COORDINACIÓN_ZONAL_2_9: Tabla28[COORDINACIÓN ZONAL 2 - 9]
Name COORDINACIÓN_ZONAL_3: Tabla29[COORDINACIÓN ZONAL 3]
Name COORDINACIÓN_ZONAL_4: Tabla30[COORDINACIÓN ZONAL 4]
Name COORDINACIÓN_ZONAL_5_8: Tabla31[COORDINACIÓN ZONAL 5 - 8]
Name COORDINACIÓN_ZONAL_6: Tabla32[COORDINACIÓN ZONAL 6]
Name COORDINACIÓN_ZONAL_7: Tabla33[COORDINACIÓN ZONAL 7]
Name COR: Tabla4[Columna1]
Name CORRIENTE: Tabla51[CORRIENTE]
Name DIRECCIÓN_ADMINISTRATIVA: DIRECCIÓN[DIRECCIÓN]
Name DIRECCIÓN_GENERAL: Tabla23[[DIRECCIÓN GENERAL ]]
Name DIRECCIÓN_GENERAL_1: SUBDIRECCIÓN[[#All],[DIRECCIÓN GENERAL / COORDINACIÓN / SUBDIRECCIÓN]]
Name EOD: #REF!
Name ESTADO_DE_LA_ACTIVIDAD: #REF!
Name Estrategicos: Tabla11[OBJETIVOS ESTRATÉGICOS]
Name FTE: Tabla47[FTE]
Name GEO: Tabla37[GEO]
Name GG: Tabla3[GG]
Name INVERSIÓN: Tabla52[INVERSIÓN]
Name ÍTEM_PRESUPUESTARIO: Tabla2[ÍTEM PRESUPUESTARIO]
Name MacroPAPP: #REF!
Name NOMBRE_GEO: Tabla37[NOMBRE GEO]
Name Objetivos: Tabla1[OBJETIVOS]
Name Operativos: Tabla12[OBJETIVOS OPERATIVOS]
Name ORG: Tabla48[ORG]
Name PG: Tabla20[PG]
Name Planta: Tabla13[PLANTA]
Name PLANTA_CENTRAL: Tabla19[PLANTA CENTRAL]
Name Politicas: Tabla9[POLÍTICAS]
Name PY: Tabla35[PY]
Name SUBDIRECCIÓN_TÉCNICA_DE_DOCTRINA: Tabla24[SUBDIRECCIÓN TÉCNICA DE DOCTRINA]
Name SUBDIRECCIÓN_TÉCNICA_DE_OPERACIONES: Tabla25[SUBDIRECCIÓN TÉCNICA DE OPERACIONES]
Name SUBDIRECCIÓN_TÉCNICA_DE_TECNOLOGÍA_E_INNOVACIÓN: Tabla26[SUBDIRECCIÓN TÉCNICA DE TECNOLOGÍA E INNOVACIÓN]
Name TIPO_DE_GASTO: Tabla4[TIPO DE GASTO]

Sheet Hoja2
A1: EOD | B1: 266_9999
A3: Etiquetas de fila | B3: Suma de PRESUPUESTO VIGENTE
A4: COORDINACIÓN_GENERAL_ADMINISTRATIVA_FINANCIERA | B4: 4736086.8
A5: DIRECCIÓN ADMINISTRATIVA | B5: 2217485.6
A6: 53 | B6: 1055609.2
A7: 57 | B7: 905108.64
A8: 84 | B8: 252680
A9: 99 | B9: 4087.82
A10: DIRECCIÓN DE ADMINISTRACIÓN DE RECURSOS HUMANOS | B10: 10841.99
A11: 53 | B11: 9963
A12: 57 | B12: 878.99
A13: DIRECCIÓN FINANCIERA | B13: 2507759.2
A14: 51 | B14: 2497730.3
A15: 53 | B15: 300
A16: 99 | B16: 9728.86
A17: COORDINACIÓN_ZONAL_2_9 | B17: 585774.23
A18: GESTIÓN ZONAL DE OPERACIONES | B18: 0
A19: 53 | B19: 0
A20: GESTIÓN ZONAL DE TECNOLOGÍA Y SOPORTE | B20: 585774.23
A21: 53 | B21: 545264.19
A22: 84 | B22: 40510.04
A23: DIRECCIÓN_GENERAL | B23: 20837.81
A24: DIRECCIÓN DE ASESORÍA JURÍDICA | B24: 624.6
A25: 53 | B25: 624.6
A26: DIRECCIÓN DE COMUNICACIÓN SOCIAL | B26: 18014.74
A27: 53 | B27: 18014.74
A28: DIRECCIÓN DE GESTIÓN DOCUMENTAL Y ARCHIVO | B28: 2198.47
A29: 53 | B29: 2198.47
A30: SUBDIRECCIÓN_TÉCNICA_DE_DOCTRINA | B30: 257901.78
A31: DIRECCIÓN NACIONAL ACADÉMICO PARA EMERGENCIAS | B31: 253309.78
A32: 51 | B32: 231210.29
A33: 53 | B33: 22099.49
A34: DIRECCIÓN NACIONAL REGULATORIO EN EMERGENCIAS | B34: 4592
A35: 51 | B35: 2800
A36: 53 | B36: 1692
A37: 57 | B37: 100
A38: SUBDIRECCIÓN_TÉCNICA_DE_OPERACIONES | B38: 1935641.7
A39: DIRECCIÓN NACIONAL DE ANÁLISIS DE DATOS | B39: 1935641.7
A40: 51 | B40: 1927917.8
A41: 53 | B41: 7723.92
...

Sheet PAPP 2023
D1: PLANIFICACIÓN Y GESTION ESTRATÉGICA
D2: GESTION DE PLANIFICACIÓN E INVERSIÓN
D3: MATRIZ PAPP
D4: CÓDIGO | V4: VERSIÓN
D5: PLA_FOR_43 | V5: 01
A6: PLAN ANUAL DE LA POLÍTICA PÚBLICA - PAPP 2023
A7: I. OBJETIVOS Y POLÍTICAS | E7: II. ESTRUCTURA ORGANIZATIVA | H7: III. ACTIVIDAD PAPP | K7: IV. ESTRUCTURA PROGRAMÁTICA | X7: V. PROGRAMACIÓN FINANCIERA
A8: OBJETIVOS PND | B8: POLÍTICAS PND | C8: OBJETIVOS ESTRATÉGICOS | D8: OBJETIVOS OPERATIVOS | E8: PLANTA CENTRAL / ZONAS | F8: DIRECCIÓN GENERAL / COORDINACIÓN / SUBDIRECCIÓN | G8: DIRECCIÓN | H8: MACROACTIVIDAD | I8: ACTIVIDAD PAPP | J8: PONDERACIÓN | K8: EOD | L8: PG | M8: PY | N8: AC | O8: GEO | P8: NOMBRE GEO | Q8: FTE | R8: ORG | S8: COR | T8: TIPO DE GASTO | U8: GG | V8: ÍTEM PRESUPUESTARIO | W8: DESCRIPCIÓN ÍTEM PRESUPUESTARIO | X8: PRESUPUESTO INICIAL 2023 | Y8: PRESUPUESTO VIGENTE | Z8: ENE | AA8: FEB | AB8: MAR | AC8: ABR | AD8: MAY | AE8: JUN | AF8: JUL | AG8: AGO | AH8: SEP | AI8: OCT | AJ8: NOV | AK8: DIC | AL8: TOTAL PROGRAMADO | AM8: REVISIÓN DE SUMAS | AN8: CERTIFICACIÓN PAPP | AO8: SALDO DSIPONIBLE | AP8: REPROGRAMACIONES
A9: OBJETIVO 14: FORTALECER LAS CAPACIDADES DEL ESTADO CON ÉNFASIS EN LA ADMINISTRACIÓN DE JUSTICIA Y EFICIENCIA EN LOS PROCESOS DE REGULACIÓN Y CONTROL CON INDEPENDENCIA Y AUTONOMÍA. | B9: =VLOOKUP(Tabla6[[#This Row],[OBJETIVOS PND]],Listas!$A$1:$B$3,2,0) -> 14.2 POTENCIAR LAS CAPACIDADES DE LOS DISTINTOS NIVELES DE GOBIERNO PARA EL CUMPLIMIENTO DE LOS OBJETIVOS NACIONALES Y LA PRESTACIÓN DE SERVICIOS CON CALIDAD | C9: OE 4 FORTALECER LAS CAPACIDADES INSTITUCIONALES (PARA LA MEJORA CONTINUA DEL SERVICIO) | D9: INCREMENTAR LA EFICIENCIA Y EFICACIA DE LA COORDINACIÓN PARA LA ATENCIÓN DE EMERGENCIAS MEDIANTE EL FORTALECIMIENTO DE LA COOPERACIÓN INTERINSTITUCIONAL, POTENCIACIÓN DE LAS FUNCIONALIDADES DE LA INFRAESTRUCTURA TECNOLÓGICA, CAPACITACIÓN PERMANENTE DEL PERSONAL Y EL MEJORAMIENTO CONTINUO DE LOS ESTÁNDARES DE CALIDAD EN SUS SERVICIOS, PROCESOS, CLIMA LABORAL Y POSICIONAMIENTO INSTITUCIONAL. | E9: COORDINACIÓN_ZONAL | F9: COORDINACIÓN_ZONAL_1 | G9: GESTIÓN LOCAL ADMINISTRATIVA FINANCIERA Y DE ADMINISTRACIÓN DE RECURSOS HUMANOS | H9: =VLOOKUP(Tabla6[[#This Row],[DIRECCIÓN]],DIRECCIÓN[#All],2,0) -> ADMINISTRACIÓN CENTRAL | I9: ARRASTRE: CANCELACIÓN POR CONSUMO DE SERVICIO DE AGUA POTABLE CORRESPONDIENTE A DICIEMBRE DEL 2022 | J9: 1 | K9: =VLOOKUP(Tabla6[[#This Row],[DIRECCIÓN GENERAL / COORDINACIÓN / SUBDIRECCIÓN]],Tabla37[[#All],[Columna1]:[EOD]],2,0) -> 266_0001 | L9: =VLOOKUP(Tabla6[[#This Row],[OBJETIVOS PND]],Listas!$A$1:$C$3,3,0) -> 1 | M9: =VLOOKUP(Tabla6[[#This Row],[PG]],Listas2!$G$14:$K$16,5,0) -> 0 | N9: 1 | O9: 401 | P9: =VLOOKUP(Tabla6[[#This Row],[GEO]],Listas!$A$48:$B$77,2,0) -> TULCÁN | Q9: =VLOOKUP(Tabla6[[#This Row],[PG]],Listas2!$G$14:$K$16,3,0) -> 1 | R9: =VLOOKUP(Tabla6[[#This Row],[PG]],Listas2!H14:'Listas2'!$G$14:$K$16,4,0) -> 0 | S9: =VLOOKUP(Tabla6[[#This Row],[PG]],Listas2!$G$14:$K$16,2,0) -> 0 | T9: CORRIENTE | U9: 53 | V9: 530101 | W9: =VLOOKUP(Tabla6[[#This Row],[ÍTEM PRESUPUESTARIO]],Tabla2[#All],2,0) -> AGUA POTABLE | X9: 100 | Y9: =100-56.57 -> 43.43 | Z9: 43.43 | AA9: 0 | AB9: 0 | AC9: 0 | AD9: 0 | AE9: 0 | AF9: 0 | AG9: 0 | AH9: 0 | AI9: 0 | AJ9: 0 | AK9: 0 | AL9: =+SUBTOTAL(9,Tabla6[[#This Row],[ENE]:[DIC]]) -> 43.43 | AM9: =IF(AL9=Y9,"OK",Y9-AL9) -> OK | AN9: 43.43 | AO9: =+Tabla6[[#This Row],[PRESUPUESTO VIGENTE]]-Tabla6[[#This Row],[CERTIFICACIÓN PAPP]] -> 0 | AP9: 0
A10: OBJETIVO 14: FORTALECER LAS CAPACIDADES DEL ESTADO CON ÉNFASIS EN LA ADMINISTRACIÓN DE JUSTICIA Y EFICIENCIA EN LOS PROCESOS DE REGULACIÓN Y CONTROL CON INDEPENDENCIA Y AUTONOMÍA. | B10: =VLOOKUP(Tabla6[[#This Row],[OBJETIVOS PND]],Listas!$A$1:$B$3,2,0) -> 14.2 POTENCIAR LAS CAPACIDADES DE LOS DISTINTOS NIVELES DE GOBIERNO PARA EL CUMPLIMIENTO DE LOS OBJETIVOS NACIONALES Y LA PRESTACIÓN DE SERVICIOS CON CALIDAD | C10: OE 4 FORTALECER LAS CAPACIDADES INSTITUCIONALES (PARA LA MEJORA CONTINUA DEL SERVICIO) | D10: INCREMENTAR LA EFICIENCIA Y EFICACIA DE LA COORDINACIÓN PARA LA ATENCIÓN DE EMERGENCIAS MEDIANTE EL FORTALECIMIENTO DE LA COOPERACIÓN INTERINSTITUCIONAL, POTENCIACIÓN DE LAS FUNCIONALIDADES DE LA INFRAESTRUCTURA TECNOLÓGICA, CAPACITACIÓN PERMANENTE DEL PERSONAL Y EL MEJORAMIENTO CONTINUO DE LOS ESTÁNDARES DE CALIDAD EN SUS SERVICIOS, PROCESOS, CLIMA LABORAL Y POSICIONAMIENTO INSTITUCIONAL. | E10: COORDINACIÓN_ZONAL | F10: COORDINACIÓN_ZONAL_1 | G10: GESTIÓN LOCAL ADMINISTRATIVA FINANCIERA Y DE ADMINISTRACIÓN DE RECURSOS HUMANOS | H10: =VLOOKUP(Tabla6[[#This Row],[DIRECCIÓN]],DIRECCIÓN[#All],2,0) -> ADMINISTRACIÓN CENTRAL | I10: PROVISIÓN POR CONSUMO DE SERVICIO DE AGUA POTABLE PERÍODO ENERO A NOVIEMBRE 2023 | J10: 1 | K10: =VLOOKUP(Tabla6[[#This Row],[DIRECCIÓN GENERAL / COORDINACIÓN / SUBDIRECCIÓN]],Tabla37[[#All],[Columna1]:[EOD]],2,0) -> 266_0001 | L10: =VLOOKUP(Tabla6[[#This Row],[OBJETIVOS PND]],Listas!$A$1:$C$3,3,0) -> 1 | M10: =VLOOKUP(Tabla6[[#This Row],[PG]],Listas2!$G$14:$K$16,5,0) -> 0 | N10: 1 | O10: 401 | P10: =VLOOKUP(Tabla6[[#This Row],[GEO]],Listas!$A$48:$B$77,2,0) -> TULCÁN | Q10: =VLOOKUP(Tabla6[[#This Row],[PG]],Listas2!$G$14:$K$16,3,0) -> 1 | R10: =VLOOKUP(Tabla6[[#This Row],[PG]],Listas2!H15:'Listas2'!$G$14:$K$16,4,0) -> 0 | S10: =VLOOKUP(Tabla6[[#This Row],[PG]],Listas2!$G$14:$K$16,2,0) -> 0 | T10: CORRIENTE | U10: 53 | V10: 530101 | W10: =VLOOKUP(Tabla6[[#This Row],[ÍTEM PRESUPUESTARIO]],Tabla2[#All],2,0) -> AGUA POTABLE | X10: 600 | Y10: =600+100 -> 700 | Z10: 0 | AA10: 63.63 | AB10: 63.63 | AC10: 63.63 | AD10: 63.63 | AE10: 63.63 | AF10: 63.63 | AG10: 63.63 | AH10: 63.63 | AI10: 63.63 | AJ10: 63.63 | AK10: 63.7 | AL10: =+SUBTOTAL(9,Tabla6[[#This Row],[ENE]:[DIC]]) -> 700 | AM10: =IF(AL10=Y10,"OK",Y10-AL10) -> OK | AN10: 700 | AO10: =+Tabla6[[#This Row],[PRESUPUESTO VIGENTE]]-Tabla6[[#This Row],[CERTIFICACIÓN PAPP]] -> 0 | AP10: 0
A11: OBJETIVO 14: FORTALECER LAS CAPACIDADES DEL ESTADO CON ÉNFASIS EN LA ADMINISTRACIÓN DE JUSTICIA Y EFICIENCIA EN LOS PROCESOS DE REGULACIÓN Y CONTROL CON INDEPENDENCIA Y AUTONOMÍA. | B11: =VLOOKUP(Tabla6[[#This Row],[OBJETIVOS PND]],Listas!$A$1:$B$3,2,0) -> 14.2 POTENCIAR LAS CAPACIDADES DE LOS DISTINTOS NIVELES DE GOBIERNO PARA EL CUMPLIMIENTO DE LOS OBJETIVOS NACIONALES Y LA PRESTACIÓN DE SERVICIOS CON CALIDAD | C11: OE 4 FORTALECER LAS CAPACIDADES INSTITUCIONALES (PARA LA MEJORA CONTINUA DEL SERVICIO) | D11: INCREMENTAR LA EFICIENCIA Y EFICACIA DE LA COORDINACIÓN PARA LA ATENCIÓN DE EMERGENCIAS MEDIANTE EL FORTALECIMIENTO DE LA COOPERACIÓN INTERINSTITUCIONAL, POTENCIACIÓN DE LAS FUNCIONALIDADES DE LA INFRAESTRUCTURA TECNOLÓGICA, CAPACITACIÓN PERMANENTE DEL PERSONAL Y EL MEJORAMIENTO CONTINUO DE LOS ESTÁNDARES DE CALIDAD EN SUS SERVICIOS, PROCESOS, CLIMA LABORAL Y POSICIONAMIENTO INSTITUCIONAL. | E11: COORDINACIÓN_ZONAL | F11: COORDINACIÓN_ZONAL_1 | G11: GESTIÓN LOCAL ADMINISTRATIVA FINANCIERA Y DE ADMINISTRACIÓN DE RECURSOS HUMANOS | H11: =VLOOKUP(Tabla6[[#This Row],[DIRECCIÓN]],DIRECCIÓN[#All],2,0) -> ADMINISTRACIÓN CENTRAL | I11: ARRASTRE: CANCELACIÓN POR CONSUMO DE SERVICIO DE ENERGÍA ELÉCTRICA CORRESPONDIENTE A DICIEMBRE DEL 2022 | J11: 1 | K11: =VLOOKUP(Tabla6[[#This Row],[DIRECCIÓN GENERAL / COORDINACIÓN / SUBDIRECCIÓN]],Tabla37[[#All],[Columna1]:[EOD]],2,0) -> 266_0001 | L11: =VLOOKUP(Tabla6[[#This Row],[OBJETIVOS PND]],Listas!$A$1:$C$3,3,0) -> 1 | M11: =VLOOKUP(Tabla6[[#This Row],[PG]],Listas2!$G$14:$K$16,5,0) -> 0 | N11: 1 | O11: 401 | P11: =VLOOKUP(Tabla6[[#This Row],[GEO]],Listas!$A$48:$B$77,2,0) -> TULCÁN | Q11: =VLOOKUP(Tabla6[[#This Row],[PG]],Listas2!$G$14:$K$16,3,0) -> 1 | R11: =VLOOKUP(Tabla6[[#This Row],[PG]],Listas2!H16:'Listas2'!$G$14:$K$16,4,0) -> 0 | S11: =VLOOKUP(Tabla6[[#This Row],[PG]],Listas2!$G$14:$K$16,2,0) -> 0 | T11: CORRIENTE | U11: 53 | V11: 530104 | W11: =VLOOKUP(Tabla6[[#This Row],[ÍTEM PRESUPUESTARIO]],Tabla2[#All],2,0) -> ENERGÍA ELÉCTRICA | X11: 1900 | Y11: =1900-9.9 -> 1890.1 | Z11: 1890.1 | AA11: 0 | AB11: 0 | AC11: 0 | AD11: 0 | AE11: 0 | AF11: 0 | AG11: 0 | AH11: 0 | AI11: 0 | AJ11: 0 | AK11: 0 | AL11: =+SUBTOTAL(9,Tabla6[[#This Row],[ENE]:[DIC]]) -> 1890.1 | AM11: =IF(AL11=Y11,"OK",Y11-AL11) -> OK | AN11: 1890.1 | AO11: =+Tabla6[[#This Row],[PRESUPUESTO VIGENTE]]-Tabla6[[#This Row],[CERTIFICACIÓN PAPP]] -> 0 | AP11: 0
A12: OBJETIVO 14: FORTALECER LAS CAPACIDADES DEL ESTADO CON ÉNFASIS EN LA ADMINISTRACIÓN DE JUSTICIA Y EFICIENCIA EN LOS PROCESOS DE REGULACIÓN Y CONTROL CON INDEPENDENCIA Y AUTONOMÍA. | B12: =VLOOKUP(Tabla6[[#This Row],[OBJETIVOS PND]],Listas!$A$1:$B$3,2,0) -> 14.2 POTENCIAR LAS CAPACIDADES DE LOS DISTINTOS NIVELES DE GOBIERNO PARA EL CUMPLIMIENTO DE LOS OBJETIVOS NACIONALES Y LA PRESTACIÓN DE SERVICIOS CON CALIDAD | C12: OE 4 FORTALECER LAS CAPACIDADES INSTITUCIONALES (PARA LA MEJORA CONTINUA DEL SERVICIO) | D12: INCREMENTAR LA EFICIENCIA Y EFICACIA DE LA COORDINACIÓN PARA LA ATENCIÓN DE EMERGENCIAS MEDIANTE EL FORTALECIMIENTO DE LA COOPERACIÓN INTERINSTITUCIONAL, POTENCIACIÓN DE LAS FUNCIONALIDADES DE LA INFRAESTRUCTURA TECNOLÓGICA, CAPACITACIÓN PERMANENTE DEL PERSONAL Y EL MEJORAMIENTO CONTINUO DE LOS ESTÁNDARES DE CALIDAD EN SUS SERVICIOS, PROCESOS, CLIMA LABORAL Y POSICIONAMIENTO INSTITUCIONAL. | E12: COORDINACIÓN_ZONAL | F12: COORDINACIÓN_ZONAL_1 | G12: GESTIÓN LOCAL ADMINISTRATIVA FINANCIERA Y DE ADMINISTRACIÓN DE RECURSOS HUMANOS | H12: =VLOOKUP(Tabla6[[#This Row],[DIRECCIÓN]],DIRECCIÓN[#All],2,0) -> ADMINISTRACIÓN CENTRAL | I12: PROVISIÓN POR CONSUMO DE SERVICIO DE ENERGÍA ELÉCTRICA PERÍODO ENERO A DICIEMBRE 2023 | J12: 1 | K12: =VLOOKUP(Tabla6[[#This Row],[DIRECCIÓN GENERAL / COORDINACIÓN / SUBDIRECCIÓN]],Tabla37[[#All],[Columna1]:[EOD]],2,0) -> 266_0001 | L12: =VLOOKUP(Tabla6[[#This Row],[OBJETIVOS PND]],Listas!$A$1:$C$3,3,0) -> 1 | M12: =VLOOKUP(Tabla6[[#This Row],[PG]],Listas2!$G$14:$K$16,5,0) -> 0 | N12: 1 | O12: 401 | P12: =VLOOKUP(Tabla6[[#This Row],[GEO]],Listas!$A$48:$B$77,2,0) -> TULCÁN | Q12: =VLOOKUP(Tabla6[[#This Row],[PG]],Listas2!$G$14:$K$16,3,0) -> 1 | R12: =VLOOKUP(Tabla6[[#This Row],[PG]],Listas2!H17:'Listas2'!$G$14:$K$16,4,0) -> 0 | S12: =VLOOKUP(Tabla6[[#This Row],[PG]],Listas2!$G$14:$K$16,2,0) -> 0 | T12: CORRIENTE | U12: 53 | V12: 530104 | W12: =VLOOKUP(Tabla6[[#This Row],[ÍTEM PRESUPUESTARIO]],Tabla2[#All],2,0) -> ENERGÍA ELÉCTRICA | X12: 11100 | Y12: =11100+8587.03+2250 -> 21937.03 | Z12: 0 | AA12: 1789.73 | AB12: 1789.73 | AC12: 1789.73 | AD12: 1789.73 | AE12: 1789.73 | AF12: 1789.73 | AG12: 1789.73 | AH12: 1789.73 | AI12: 1789.73 | AJ12: 1789.73 | AK12: 4039.73 | AL12: =+SUBTOTAL(9,Tabla6[[#This Row],[ENE]:[DIC]]) -> 21937.03 | AM12: =IF(AL12=Y12,"OK",Y12-AL12) -> OK | AN12: 21937.03 | AO12: =+Tabla6[[#This Row],[PRESUPUESTO VIGENTE]]-Tabla6[[#This Row],[CERTIFICACIÓN PAPP]] -> 0 | AP12: 0
A13: OBJETIVO 14: FORTALECER LAS CAPACIDADES DEL ESTADO CON ÉNFASIS EN LA ADMINISTRACIÓN DE JUSTICIA Y EFICIENCIA EN LOS PROCESOS DE REGULACIÓN Y CONTROL CON INDEPENDENCIA Y AUTONOMÍA. | B13: =VLOOKUP(Tabla6[[#This Row],[OBJETIVOS PND]],Listas!$A$1:$B$3,2,0) -> 14.2 POTENCIAR LAS CAPACIDADES DE LOS DISTINTOS NIVELES DE GOBIERNO PARA EL CUMPLIMIENTO DE LOS OBJETIVOS NACIONALES Y LA PRESTACIÓN DE SERVICIOS CON CALIDAD | C13: OE 4 FORTALECER LAS CAPACIDADES INSTITUCIONALES (PARA LA MEJORA CONTINUA DEL SERVICIO) | D13: INCREMENTAR LA EFICIENCIA Y EFICACIA DE LA COORDINACIÓN PARA LA ATENCIÓN DE EMERGENCIAS MEDIANTE EL FORTALECIMIENTO DE LA COOPERACIÓN INTERINSTITUCIONAL, POTENCIACIÓN DE LAS FUNCIONALIDADES DE LA INFRAESTRUCTURA TECNOLÓGICA, CAPACITACIÓN PERMANENTE DEL PERSONAL Y EL MEJORAMIENTO CONTINUO DE LOS ESTÁNDARES DE CALIDAD EN SUS SERVICIOS, PROCESOS, CLIMA LABORAL Y POSICIONAMIENTO INSTITUCIONAL. | E13: COORDINACIÓN_ZONAL | F13: COORDINACIÓN_ZONAL_1 | G13: GESTIÓN LOCAL ADMINISTRATIVA FINANCIERA Y DE ADMINISTRACIÓN DE RECURSOS HUMANOS | H13: =VLOOKUP(Tabla6[[#This Row],[DIRECCIÓN]],DIRECCIÓN[#All],2,0) -> ADMINISTRACIÓN CENTRAL | I13: ARRASTRE: CANCELACIÓN POR CONSUMO DE SERVICIO DE CORREO NACIONAL A DICIEMBRE DEL 2022 | J13: 1 | K13: =VLOOKUP(Tabla6[[#This Row],[DIRECCIÓN GENERAL / COORDINACIÓN / SUBDIRECCIÓN]],Tabla37[[#All],[Columna1]:[EOD]],2,0) -> 266_0001 | L13: =VLOOKUP(Tabla6[[#This Row],[OBJETIVOS PND]],Listas!$A$1:$C$3,3,0) -> 1 | M13: =VLOOKUP(Tabla6[[#This Row],[PG]],Listas2!$G$14:$K$16,5,0) -> 0 | N13: 1 | O13: 401 | P13: =VLOOKUP(Tabla6[[#This Row],[GEO]],Listas!$A$48:$B$77,2,0) -> TULCÁN | Q13: =VLOOKUP(Tabla6[[#This Row],[PG]],Listas2!$G$14:$K$16,3,0) -> 1 | R13: =VLOOKUP(Tabla6[[#This Row],[PG]],Listas2!H18:'Listas2'!$G$14:$K$16,4,0) -> 0 | S13: =VLOOKUP(Tabla6[[#This Row],[PG]],Listas2!$G$14:$K$16,2,0) -> 0 | T13: CORRIENTE | U13: 53 | V13: 530106 | W13: =VLOOKUP(Tabla6[[#This Row],[ÍTEM PRESUPUESTARIO]],Tabla2[#All],2,0) -> SERVICIO DE CORREO | X13: 100 | Y13: =100-79 -> 21 | Z13: 21 | AA13: 0 | AB13: 0 | AC13: 0 | AD13: 0 | AE13: 0 | AF13: 0 | AG13: 0 | AH13: 0 | AI13: 0 | AJ13: 0 | AK13: 0 | AL13: =+SUBTOTAL(9,Tabla6[[#This Row],[ENE]:[DIC]]) -> 21 | AM13: =IF(AL13=Y13,"OK",Y13-AL13) -> OK | AN13: 21 | AO13: =+Tabla6[[#This Row],[PRESUPUESTO VIGENTE]]-Tabla6[[#This Row],[CERTIFICACIÓN PAPP]] -> 0 | AP13: 0
A14: OBJETIVO 14: FORTALECER LAS CAPACIDADES DEL ESTADO CON ÉNFASIS EN LA ADMINISTRACIÓN DE JUSTICIA Y EFICIENCIA EN LOS PROCESOS DE REGULACIÓN Y CONTROL CON INDEPENDENCIA Y AUTONOMÍA. | B14: =VLOOKUP(Tabla6[[#This Row],[OBJETIVOS PND]],Listas!$A$1:$B$3,2,0) -> 14.2 POTENCIAR LAS CAPACIDADES DE LOS DISTINTOS NIVELES DE GOBIERNO PARA EL CUMPLIMIENTO DE LOS OBJETIVOS NACIONALES Y LA PRESTACIÓN DE SERVICIOS CON CALIDAD | C14: OE 4 FORTALECER LAS CAPACIDADES INSTITUCIONALES (PARA LA MEJORA CONTINUA DEL SERVICIO) | D14: INCREMENTAR LA EFICIENCIA Y EFICACIA DE LA COORDINACIÓN PARA LA ATENCIÓN DE EMERGENCIAS MEDIANTE EL FORTALECIMIENTO DE LA COOPERACIÓN INTERINSTITUCIONAL, POTENCIACIÓN DE LAS FUNCIONALIDADES DE LA INFRAESTRUCTURA TECNOLÓGICA, CAPACITACIÓN PERMANENTE DEL PERSONAL Y EL MEJORAMIENTO CONTINUO DE LOS ESTÁNDARES DE CALIDAD EN SUS SERVICIOS, PROCESOS, CLIMA LABORAL Y POSICIONAMIENTO INSTITUCIONAL. | E14: COORDINACIÓN_ZONAL | F14: COORDINACIÓN_ZONAL_1 | G14: GESTIÓN LOCAL ADMINISTRATIVA FINANCIERA Y DE ADMINISTRACIÓN DE RECURSOS HUMANOS | H14: =VLOOKUP(Tabla6[[#This Row],[DIRECCIÓN]],DIRECCIÓN[#All],2,0) -> ADMINISTRACIÓN CENTRAL | I14: CONTRATACIÓN DEL SERVICIO DE CORREO NACIONAL PERÍODO ENERO A DICIEMBRE 2023 | J14: 1 | K14: =VLOOKUP(Tabla6[[#This Row],[DIRECCIÓN GENERAL / COORDINACIÓN / SUBDIRECCIÓN]],Tabla37[[#All],[Columna1]:[EOD]],2,0) -> 266_0001 | L14: =VLOOKUP(Tabla6[[#This Row],[OBJETIVOS PND]],Listas!$A$1:$C$3,3,0) -> 1 | M14: =VLOOKUP(Tabla6[[#This Row],[PG]],Listas2!$G$14:$K$16,5,0) -> 0 | N14: 1 | O14: 401 | P14: =VLOOKUP(Tabla6[[#This Row],[GEO]],Listas!$A$48:$B$77,2,0) -> TULCÁN | Q14: =VLOOKUP(Tabla6[[#This Row],[PG]],Listas2!$G$14:$K$16,3,0) -> 1 | R14: =VLOOKUP(Tabla6[[#This Row],[PG]],Listas2!H19:'Listas2'!$G$14:$K$16,4,0) -> 0 | S14: =VLOOKUP(Tabla6[[#This Row],[PG]],Listas2!$G$14:$K$16,2,0) -> 0 | T14: CORRIENTE | U14: 53 | V14: 530106 | W14: =VLOOKUP(Tabla6[[#This Row],[ÍTEM PRESUPUESTARIO]],Tabla2[#All],2,0) -> SERVICIO DE CORREO | X14: 350 | Y14: =350-50-124.6 -> 175.4 | Z14: 0 | AA14: 0 | AB14: 30 | AC14: 30 | AD14: 30 | AE14: 30 | AF14: 30 | AG14: 25.4 | AH14: 0 | AI14: 0 | AJ14: 0 | AK14: 0 | AL14: =+SUBTOTAL(9,Tabla6[[#This Row],[ENE]:[DIC]]) -> 175.4 | AM14: =IF(AL14=Y14,"OK",Y14-AL14) -> OK | AN14: 175.4 | AO14: =+Tabla6[[#This Row],[PRESUPUESTO VIGENTE]]-Tabla6[[#This Row],[CERTIFICACIÓN PAPP]] -> 0 | AP14: 0
A15: OBJETIVO 14: FORTALECER LAS CAPACIDADES DEL ESTADO CON ÉNFASIS EN LA ADMINISTRACIÓN DE JUSTICIA Y EFICIENCIA EN LOS PROCESOS DE REGULACIÓN Y CONTROL CON INDEPENDENCIA Y AUTONOMÍA. | B15: =VLOOKUP(Tabla6[[#This Row],[OBJETIVOS PND]],Listas!$A$1:$B$3,2,0) -> 14.2 POTENCIAR LAS CAPACIDADES DE LOS DISTINTOS NIVELES DE GOBIERNO PARA EL CUMPLIMIENTO DE LOS OBJETIVOS NACIONALES Y LA PRESTACIÓN DE SERVICIOS CON CALIDAD | C15: OE 4 FORTALECER LAS CAPACIDADES INSTITUCIONALES (PARA LA MEJORA CONTINUA DEL SERVICIO) | D15: INCREMENTAR LA EFICIENCIA Y EFICACIA DE LA COORDINACIÓN PARA LA ATENCIÓN DE EMERGENCIAS MEDIANTE EL FORTALECIMIENTO DE LA COOPERACIÓN INTERINSTITUCIONAL, POTENCIACIÓN DE LAS FUNCIONALIDADES DE LA INFRAESTRUCTURA TECNOLÓGICA, CAPACITACIÓN PERMANENTE DEL PERSONAL Y EL MEJORAMIENTO CONTINUO DE LOS ESTÁNDARES DE CALIDAD EN SUS SERVICIOS, PROCESOS, CLIMA LABORAL Y POSICIONAMIENTO INSTITUCIONAL. | E15: COORDINACIÓN_ZONAL | F15: COORDINACIÓN_ZONAL_1 | G15: GESTIÓN LOCAL ADMINISTRATIVA FINANCIERA Y DE ADMINISTRACIÓN DE RECURSOS HUMANOS | H15: =VLOOKUP(Tabla6[[#This Row],[DIRECCIÓN]],DIRECCIÓN[#All],2,0) -> ADMINISTRACIÓN CENTRAL | I15: ARRASTRE: CANCELACIÓN POR EL SERVICIO DE TRANSPORTE PERSONAL OPERATIVO DICIEMBRE DEL 2022 | J15: 1 | K15: =VLOOKUP(Tabla6[[#This Row],[DIRECCIÓN GENERAL / COORDINACIÓN / SUBDIRECCIÓN]],Tabla37[[#All],[Columna1]:[EOD]],2,0) -> 266_0001 | L15: =VLOOKUP(Tabla6[[#This Row],[OBJETIVOS PND]],Listas!$A$1:$C$3,3,0) -> 1 | M15: =VLOOKUP(Tabla6[[#This Row],[PG]],Listas2!$G$14:$K$16,5,0) -> 0 | N15: 1 | O15: 401 | P15: =VLOOKUP(Tabla6[[#This Row],[GEO]],Listas!$A$48:$B$77,2,0) -> TULCÁN | Q15: =VLOOKUP(Tabla6[[#This Row],[PG]],Listas2!$G$14:$K$16,3,0) -> 1 | R15: =VLOOKUP(Tabla6[[#This Row],[PG]],Listas2!H20:'Listas2'!$G$14:$K$16,4,0) -> 0 | S15: =VLOOKUP(Tabla6[[#This Row],[PG]],Listas2!$G$14:$K$16,2,0) -> 0 | T15: CORRIENTE | U15: 53 | V15: 530201 | W15: =VLOOKUP(Tabla6[[#This Row],[ÍTEM PRESUPUESTARIO]],Tabla2[#All],2,0) -> TRANSPORTE DE PERSONAL | X15: 1500 | Y15: 1500 | Z15: 1500 | AA15: 0 | AB15: 0 | AC15: 0 | AD15: 0 | AE15: 0 | AF15: 0 | AG15: 0 | AH15: 0 | AI15: 0 | AJ15: 0 | AK15: 0 | AL15: =+SUBTOTAL(9,Tabla6[[#This Row],[ENE]:[DIC]]) -> 1500 | AM15: =IF(AL15=Y15,"OK",Y15-AL15) -> OK | AN15: 1500 | AO15: =+Tabla6[[#This Row],[PRESUPUESTO VIGENTE]]-Tabla6[[#This Row],[CERTIFICACIÓN PAPP]] -> 0 | AP15: 0
A16: OBJETIVO 14: FORTALECER LAS CAPACIDADES DEL ESTADO CON ÉNFASIS EN LA ADMINISTRACIÓN DE JUSTICIA Y EFICIENCIA EN LOS PROCESOS DE REGULACIÓN Y CONTROL CON INDEPENDENCIA Y AUTONOMÍA. | B16: =VLOOKUP(Tabla6[[#This Row],[OBJETIVOS PND]],Listas!$A$1:$B$3,2,0) -> 14.2 POTENCIAR LAS CAPACIDADES DE LOS DISTINTOS NIVELES DE GOBIERNO PARA EL CUMPLIMIENTO DE LOS OBJETIVOS NACIONALES Y LA PRESTACIÓN DE SERVICIOS CON CALIDAD | C16: OE 4 FORTALECER LAS CAPACIDADES INSTITUCIONALES (PARA LA MEJORA CONTINUA DEL SERVICIO) | D16: INCREMENTAR LA EFICIENCIA Y EFICACIA DE LA COORDINACIÓN PARA LA ATENCIÓN DE EMERGENCIAS MEDIANTE EL FORTALECIMIENTO DE LA COOPERACIÓN INTERINSTITUCIONAL, POTENCIACIÓN DE LAS FUNCIONALIDADES DE LA INFRAESTRUCTURA TECNOLÓGICA, CAPACITACIÓN PERMANENTE DEL PERSONAL Y EL MEJORAMIENTO CONTINUO DE LOS ESTÁNDARES DE CALIDAD EN SUS SERVICIOS, PROCESOS, CLIMA LABORAL Y POSICIONAMIENTO INSTITUCIONAL. | E16: COORDINACIÓN_ZONAL | F16: COORDINACIÓN_ZONAL_1 | G16: GESTIÓN LOCAL ADMINISTRATIVA FINANCIERA Y DE ADMINISTRACIÓN DE RECURSOS HUMANOS | H16: =VLOOKUP(Tabla6[[#This Row],[DIRECCIÓN]],DIRECCIÓN[#All],2,0) -> ADMINISTRACIÓN CENTRAL | I16: CONTRATACIÓN DEL SERVICIO DE TRANSPORTE PARA SERVIDORES DEL ÁREA OPERATIVA DEL CENTRO OPERATIVO LOCAL ECU 911 TULCÁN PARA ENERO-DICIEMBRE 2023, SE PAGA A MES VENCIDO | J16: 1 | K16: =VLOOKUP(Tabla6[[#This Row],[DIRECCIÓN GENERAL / COORDINACIÓN / SUBDIRECCIÓN]],Tabla37[[#All],[Columna1]:[EOD]],2,0) -> 266_0001 | L16: =VLOOKUP(Tabla6[[#This Row],[OBJETIVOS PND]],Listas!$A$1:$C$3,3,0) -> 1 | M16: =VLOOKUP(Tabla6[[#This Row],[PG]],Listas2!$G$14:$K$16,5,0) -> 0 | N16: 1 | O16: 401 | P16: =VLOOKUP(Tabla6[[#This Row],[GEO]],Listas!$A$48:$B$77,2,0) -> TULCÁN | Q16: =VLOOKUP(Tabla6[[#This Row],[PG]],Listas2!$G$14:$K$16,3,0) -> 1 | R16: =VLOOKUP(Tabla6[[#This Row],[PG]],Listas2!H21:'Listas2'!$G$14:$K$16,4,0) -> 0 | S16: =VLOOKUP(Tabla6[[#This Row],[PG]],Listas2!$G$14:$K$16,2,0) -> 0 | T16: CORRIENTE | U16: 53 | V16: 530201 | W16: =VLOOKUP(Tabla6[[#This Row],[ÍTEM PRESUPUESTARIO]],Tabla2[#All],2,0) -> TRANSPORTE DE PERSONAL | X16: 21000 | Y16: =21000+300-1774.99 -> 19525.01 | Z16: 0 | AA16: 1030.65 | AB16: 1775 | AC16: 1775 | AD16: 1775 | AE16: 1775 | AF16: 1775 | AG16: 1775 | AH16: 1775 | AI16: 1775 | AJ16: 1775 | AK16: 2519.36 | AL16: =+SUBTOTAL(9,Tabla6[[#This Row],[ENE]:[DIC]]) -> 19525.01 | AM16: =IF(AL16=Y16,"OK",Y16-AL16) -> OK | AN16: 19525.01 | AO16: =+Tabla6[[#This Row],[PRESUPUESTO VIGENTE]]-Tabla6[[#This Row],[CERTIFICACIÓN PAPP]] -> 0 | AP16: 0
A17: OBJETIVO 14: FORTALECER LAS CAPACIDADES DEL ESTADO CON ÉNFASIS EN LA ADMINISTRACIÓN DE JUSTICIA Y EFICIENCIA EN LOS PROCESOS DE REGULACIÓN Y CONTROL CON INDEPENDENCIA Y AUTONOMÍA. | B17: =VLOOKUP(Tabla6[[#This Row],[OBJETIVOS PND]],Listas!$A$1:$B$3,2,0) -> 14.2 POTENCIAR LAS CAPACIDADES DE LOS DISTINTOS NIVELES DE GOBIERNO PARA EL CUMPLIMIENTO DE LOS OBJETIVOS NACIONALES Y LA PRESTACIÓN DE SERVICIOS CON CALIDAD | C17: OE 4 FORTALECER LAS CAPACIDADES INSTITUCIONALES (PARA LA MEJORA CONTINUA DEL SERVICIO) | D17: INCREMENTAR LA EFICIENCIA Y EFICACIA DE LA COORDINACIÓN PARA LA ATENCIÓN DE EMERGENCIAS MEDIANTE EL FORTALECIMIENTO DE LA COOPERACIÓN INTERINSTITUCIONAL, POTENCIACIÓN DE LAS FUNCIONALIDADES DE LA INFRAESTRUCTURA TECNOLÓGICA, CAPACITACIÓN PERMANENTE DEL PERSONAL Y EL MEJORAMIENTO CONTINUO DE LOS ESTÁNDARES DE CALIDAD EN SUS SERVICIOS, PROCESOS, CLIMA LABORAL Y POSICIONAMIENTO INSTITUCIONAL. | E17: COORDINACIÓN_ZONAL | F17: COORDINACIÓN_ZONAL_1 | G17: GESTIÓN LOCAL ADMINISTRATIVA FINANCIERA Y DE ADMINISTRACIÓN DE RECURSOS HUMANOS | H17: =VLOOKUP(Tabla6[[#This Row],[DIRECCIÓN]],DIRECCIÓN[#All],2,0) -> ADMINISTRACIÓN CENTRAL | I17: CONTRATACIÓN DEL SERVICIO DE RECARGA DE EXTINTORES DEL CENTRO | J17: 1 | K17: =VLOOKUP(Tabla6[[#This Row],[DIRECCIÓN GENERAL / COORDINACIÓN / SUBDIRECCIÓN]],Tabla37[[#All],[Columna1]:[EOD]],2,0) -> 266_0001 | L17: =VLOOKUP(Tabla6[[#This Row],[OBJETIVOS PND]],Listas!$A$1:$C$3,3,0) -> 1 | M17: =VLOOKUP(Tabla6[[#This Row],[PG]],Listas2!$G$14:$K$16,5,0) -> 0 | N17: 1 | O17: 401 | P17: =VLOOKUP(Tabla6[[#This Row],[GEO]],Listas!$A$48:$B$77,2,0) -> TULCÁN | Q17: =VLOOKUP(Tabla6[[#This Row],[PG]],Listas2!$G$14:$K$16,3,0) -> 1 | R17: =VLOOKUP(Tabla6[[#This Row],[PG]],Listas2!H22:'Listas2'!$G$14:$K$16,4,0) -> 0 | S17: =VLOOKUP(Tabla6[[#This Row],[PG]],Listas2!$G$14:$K$16,2,0) -> 0 | T17: CORRIENTE | U17: 53 | V17: 530203 | W17: =VLOOKUP(Tabla6[[#This Row],[ÍTEM PRESUPUESTARIO]],Tabla2[#All],2,0) -> ALMACENAMIENTO, EMBALAJE, DESEMBALAJE, ENVASE, DESENVASE Y RECARGA DE EXTINTORES | X17: 340 | Y17: =340-170-65 -> 105 | Z17: 0 | AA17: 0 | AB17: 0 | AC17: 0 | AD17: 0 | AE17: 0 | AF17: 0 | AG17: 0 | AH17: 0 | AI17: 0 | AJ17: 105 | AK17: 0 | AL17: =+SUBTOTAL(9,Tabla6[[#This Row],[ENE]:[DIC]]) -> 105 | AM17: =IF(AL17=Y17,"OK",Y17-AL17) -> OK | AN17: 105 | AO17: =+Tabla6[[#This Row],[PRESUPUESTO VIGENTE]]-Tabla6[[#This Row],[CERTIFICACIÓN PAPP]] -> 0 | AP17: 0
A18: OBJETIVO 14: FORTALECER LAS CAPACIDADES DEL ESTADO CON ÉNFASIS EN LA ADMINISTRACIÓN DE JUSTICIA Y EFICIENCIA EN LOS PROCESOS DE REGULACIÓN Y CONTROL CON INDEPENDENCIA Y AUTONOMÍA. | B18: =VLOOKUP(Tabla6[[#This Row],[OBJETIVOS PND]],Listas!$A$1:$B$3,2,0) -> 14.2 POTENCIAR LAS CAPACIDADES DE LOS DISTINTOS NIVELES DE GOBIERNO PARA EL CUMPLIMIENTO DE LOS OBJETIVOS NACIONALES Y LA PRESTACIÓN DE SERVICIOS CON CALIDAD | C18: OE 3 INCREMENTAR EL POSICIONAMIENTO DEL SERVICIO INTEGRADO DE SEGURIDAD ECU 911 A NIVEL NACIONAL E INTERNACIONAL | D18: INCREMENTAR LA EFICIENCIA Y EFICACIA DE LA COORDINACIÓN PARA LA ATENCIÓN DE EMERGENCIAS MEDIANTE EL FORTALECIMIENTO DE LA COOPERACIÓN INTERINSTITUCIONAL, POTENCIACIÓN DE LAS FUNCIONALIDADES DE LA INFRAESTRUCTURA TECNOLÓGICA, CAPACITACIÓN PERMANENTE DEL PERSONAL Y EL MEJORAMIENTO CONTINUO DE LOS ESTÁNDARES DE CALIDAD EN SUS SERVICIOS, PROCESOS, CLIMA LABORAL Y POSICIONAMIENTO INSTITUCIONAL. | E18: COORDINACIÓN_ZONAL | F18: COORDINACIÓN_ZONAL_1 | G18: GESTIÓN LOCAL DE COMUNICACIÓN SOCIAL | H18: =VLOOKUP(Tabla6[[#This Row],[DIRECCIÓN]],DIRECCIÓN[#All],2,0) -> COMUNICACIÓN SOCIAL | I18: SUSCRIPCIÓN CON SEMANARIOS Y MEDIOS DIGITALES DE CARCHI | J18: 2 | K18: =VLOOKUP(Tabla6[[#This Row],[DIRECCIÓN GENERAL / COORDINACIÓN / SUBDIRECCIÓN]],Tabla37[[#All],[Columna1]:[EOD]],2,0) -> 266_0001 | L18: =VLOOKUP(Tabla6[[#This Row],[OBJETIVOS PND]],Listas!$A$1:$C$3,3,0) -> 1 | M18: =VLOOKUP(Tabla6[[#This Row],[PG]],Listas2!$G$14:$K$16,5,0) -> 0 | N18: 1 | O18: 401 | P18: =VLOOKUP(Tabla6[[#This Row],[GEO]],Listas!$A$48:$B$77,2,0) -> TULCÁN | Q18: =VLOOKUP(Tabla6[[#This Row],[PG]],Listas2!$G$14:$K$16,3,0) -> 1 | R18: =VLOOKUP(Tabla6[[#This Row],[PG]],Listas2!H23:'Listas2'!$G$14:$K$16,4,0) -> 0 | S18: =VLOOKUP(Tabla6[[#This Row],[PG]],Listas2!$G$14:$K$16,2,0) -> 0 | T18: CORRIENTE | U18: 53 | V18: 530204 | W18: =VLOOKUP(Tabla6[[#This Row],[ÍTEM PRESUPUESTARIO]],Tabla2[#All],2,0) -> EDICIÓN, IMPRESIÓN, REPRODUCCIÓN, PUBLICACIONES, SUSCRIPCIONES, FOTOCOPIADO, TRADUCCIÓN, EMPASTADO, ENMARCACIÓN, SERIGRAFÍA, FOTOGRAFÍA, CARNETIZACIÓN, FILMACIÓN E IMÁGENES SATELITALES | X18: 200 | Y18: =200-200 -> 0 | Z18: 0 | AA18: 0 | AB18: 0 | AC18: 0 | AD18: 0 | AE18: 0 | AF18: 0 | AG18: 0 | AH18: 0 | AI18: 0 | AJ18: 0 | AK18: 0 | AL18: =+SUBTOTAL(9,Tabla6[[#This Row],[ENE]:[DIC]]) -> 0 | AM18: =IF(AL18=Y18,"OK",Y18-AL18) -> OK | AN18: =115.87-40.18-40-35.69 -> 0 | AO18: =+Tabla6[[#This Row],[PRESUPUESTO VIGENTE]]-Tabla6[[#This Row],[CERTIFICACIÓN PAPP]] -> 0 | AP18: 0
A19: OBJETIVO 14: FORTALECER LAS CAPACIDADES DEL ESTADO CON ÉNFASIS EN LA ADMINISTRACIÓN DE JUSTICIA Y EFICIENCIA EN LOS PROCESOS DE REGULACIÓN Y CONTROL CON INDEPENDENCIA Y AUTONOMÍA. | B19: =VLOOKUP(Tabla6[[#This Row],[OBJETIVOS PND]],Listas!$A$1:$B$3,2,0) -> 14.2 POTENCIAR LAS CAPACIDADES DE LOS DISTINTOS NIVELES DE GOBIERNO PARA EL CUMPLIMIENTO DE LOS OBJETIVOS NACIONALES Y LA PRESTACIÓN DE SERVICIOS CON CALIDAD | C19: OE 3 INCREMENTAR EL POSICIONAMIENTO DEL SERVICIO INTEGRADO DE SEGURIDAD ECU 911 A NIVEL NACIONAL E INTERNACIONAL | D19: INCREMENTAR LA EFICIENCIA Y EFICACIA DE LA COORDINACIÓN PARA LA ATENCIÓN DE EMERGENCIAS MEDIANTE EL FORTALECIMIENTO DE LA COOPERACIÓN INTERINSTITUCIONAL, POTENCIACIÓN DE LAS FUNCIONALIDADES DE LA INFRAESTRUCTURA TECNOLÓGICA, CAPACITACIÓN PERMANENTE DEL PERSONAL Y EL MEJORAMIENTO CONTINUO DE LOS ESTÁNDARES DE CALIDAD EN SUS SERVICIOS, PROCESOS, CLIMA LABORAL Y POSICIONAMIENTO INSTITUCIONAL. | E19: COORDINACIÓN_ZONAL | F19: COORDINACIÓN_ZONAL_1 | G19: GESTIÓN LOCAL DE COMUNICACIÓN SOCIAL | H19: =VLOOKUP(Tabla6[[#This Row],[DIRECCIÓN]],DIRECCIÓN[#All],2,0) -> COMUNICACIÓN SOCIAL | I19: ADQUISICIÓN DE TRÍPTICOS CON EL MODELO DE GESTIÓN DEL ECU 911 Y BUEN USO DEL 9-1-1 | J19: 2 | K19: =VLOOKUP(Tabla6[[#This Row],[DIRECCIÓN GENERAL / COORDINACIÓN / SUBDIRECCIÓN]],Tabla37[[#All],[Columna1]:[EOD]],2,0) -> 266_0001 | L19: =VLOOKUP(Tabla6[[#This Row],[OBJETIVOS PND]],Listas!$A$1:$C$3,3,0) -> 1 | M19: =VLOOKUP(Tabla6[[#This Row],[PG]],Listas2!$G$14:$K$16,5,0) -> 0 | N19: 1 | O19: 401 | P19: =VLOOKUP(Tabla6[[#This Row],[GEO]],Listas!$A$48:$B$77,2,0) -> TULCÁN | Q19: =VLOOKUP(Tabla6[[#This Row],[PG]],Listas2!$G$14:$K$16,3,0) -> 1 | R19: =VLOOKUP(Tabla6[[#This Row],[PG]],Listas2!H24:'Listas2'!$G$14:$K$16,4,0) -> 0 | S19: =VLOOKUP(Tabla6[[#This Row],[PG]],Listas2!$G$14:$K$16,2,0) -> 0 | T19: CORRIENTE | U19: 53 | V19: 530204 | W19: =VLOOKUP(Tabla6[[#This Row],[ÍTEM PRESUPUESTARIO]],Tabla2[#All],2,0) -> EDICIÓN, IMPRESIÓN, REPRODUCCIÓN, PUBLICACIONES, SUSCRIPCIONES, FOTOCOPIADO, TRADUCCIÓN, EMPASTADO, ENMARCACIÓN, SERIGRAFÍA, FOTOGRAFÍA, CARNETIZACIÓN, FILMACIÓN E IMÁGENES SATELITALES | X19: 100 | Y19: =100-100 -> 0 | Z19: 0 | AA19: 0 | AB19: 0 | AC19: 0 | AD19: 0 | AE19: 0 | AF19: 0 | AG19: 0 | AH19: 0 | AI19: 0 | AJ19: 0 | AK19: 0 | AL19: =+SUBTOTAL(9,Tabla6[[#This Row],[ENE]:[DIC]]) -> 0 | AM19: =IF(AL19=Y19,"OK",Y19-AL19) -> OK | AN19: 0 | AO19: =+Tabla6[[#This Row],[PRESUPUESTO VIGENTE]]-Tabla6[[#This Row],[CERTIFICACIÓN PAPP]] -> 0 | AP19: 0
A20: OBJETIVO 14: FORTALECER LAS CAPACIDADES DEL ESTADO CON ÉNFASIS EN LA ADMINISTRACIÓN DE JUSTICIA Y EFICIENCIA EN LOS PROCESOS DE REGULACIÓN Y CONTROL CON INDEPENDENCIA Y AUTONOMÍA. | B20: =VLOOKUP(Tabla6[[#This Row],[OBJETIVOS PND]],Listas!$A$1:$B$3,2,0) -> 14.2 POTENCIAR LAS CAPACIDADES DE LOS DISTINTOS NIVELES DE GOBIERNO PARA EL CUMPLIMIENTO DE LOS OBJETIVOS NACIONALES Y LA PRESTACIÓN DE SERVICIOS CON CALIDAD | C20: OE 3 INCREMENTAR EL POSICIONAMIENTO DEL SERVICIO INTEGRADO DE SEGURIDAD ECU 911 A NIVEL NACIONAL E INTERNACIONAL | D20: INCREMENTAR LA EFICIENCIA Y EFICACIA DE LA COORDINACIÓN PARA LA ATENCIÓN DE EMERGENCIAS MEDIANTE EL FORTALECIMIENTO DE LA COOPERACIÓN INTERINSTITUCIONAL, POTENCIACIÓN DE LAS FUNCIONALIDADES DE LA INFRAESTRUCTURA TECNOLÓGICA, CAPACITACIÓN PERMANENTE DEL PERSONAL Y EL MEJORAMIENTO CONTINUO DE LOS ESTÁNDARES DE CALIDAD EN SUS SERVICIOS, PROCESOS, CLIMA LABORAL Y POSICIONAMIENTO INSTITUCIONAL. | E20: COORDINACIÓN_ZONAL | F20: COORDINACIÓN_ZONAL_1 | G20: GESTIÓN LOCAL DE COMUNICACIÓN SOCIAL | H20: =VLOOKUP(Tabla6[[#This Row],[DIRECCIÓN]],DIRECCIÓN[#All],2,0) -> COMUNICACIÓN SOCIAL | I20: ADQUISICIÓN DE MATERIAL DE POSICIONAMIENTO E IDENTIDAD DEL ECU 911 PARA EL CENTRO OPERATIVO ECU 911 TULCÁN | J20: 2 | K20: =VLOOKUP(Tabla6[[#This Row],[DIRECCIÓN GENERAL / COORDINACIÓN / SUBDIRECCIÓN]],Tabla37[[#All],[Columna1]:[EOD]],2,0) -> 266_0001 | L20: =VLOOKUP(Tabla6[[#This Row],[OBJETIVOS PND]],Listas!$A$1:$C$3,3,0) -> 1 | M20: =VLOOKUP(Tabla6[[#This Row],[PG]],Listas2!$G$14:$K$16,5,0) -> 0 | N20: 1 | O20: 401 | P20: =VLOOKUP(Tabla6[[#This Row],[GEO]],Listas!$A$48:$B$77,2,0) -> TULCÁN | Q20: =VLOOKUP(Tabla6[[#This Row],[PG]],Listas2!$G$14:$K$16,3,0) -> 1 | R20: =VLOOKUP(Tabla6[[#This Row],[PG]],Listas2!H25:'Listas2'!$G$14:$K$16,4,0) -> 0 | S20: =VLOOKUP(Tabla6[[#This Row],[PG]],Listas2!$G$14:$K$16,2,0) -> 0 | T20: CORRIENTE | U20: 53 | V20: 530204 | W20: =VLOOKUP(Tabla6[[#This Row],[ÍTEM PRESUPUESTARIO]],Tabla2[#All],2,0) -> EDICIÓN, IMPRESIÓN, REPRODUCCIÓN, PUBLICACIONES, SUSCRIPCIONES, FOTOCOPIADO, TRADUCCIÓN, EMPASTADO, ENMARCACIÓN, SERIGRAFÍA, FOTOGRAFÍA, CARNETIZACIÓN, FILMACIÓN E IMÁGENES SATELITALES | X20: 1480 | Y20: =1480-1480 -> 0 | Z20: 0 | AA20: 0 | AB20: 0 | AC20: 0 | AD20: 0 | AE20: 0 | AF20: 0 | AG20: 0 | AH20: 0 | AI20: 0 | AJ20: 0 | AK20: 0 | AL20: =+SUBTOTAL(9,Tabla6[[#This Row],[ENE]:[DIC]]) -> 0 | AM20: =IF(AL20=Y20,"OK",Y20-AL20) -> OK | AN20: 0 | AO20: =+Tabla6[[#This Row],[PRESUPUESTO VIGENTE]]-Tabla6[[#This Row],[CERTIFICACIÓN PAPP]] -> 0 | AP20: 0
A21: OBJETIVO 14: FORTALECER LAS CAPACIDADES DEL ESTADO CON ÉNFASIS EN LA ADMINISTRACIÓN DE JUSTICIA Y EFICIENCIA EN LOS PROCESOS DE REGULACIÓN Y CONTROL CON INDEPENDENCIA Y AUTONOMÍA. | B21: =VLOOKUP(Tabla6[[#This Row],[OBJETIVOS PND]],Listas!$A$1:$B$3,2,0) -> 14.2 POTENCIAR LAS CAPACIDADES DE LOS DISTINTOS NIVELES DE GOBIERNO PARA EL CUMPLIMIENTO DE LOS OBJETIVOS NACIONALES Y LA PRESTACIÓN DE SERVICIOS CON CALIDAD | C21: OE 3 INCREMENTAR EL POSICIONAMIENTO DEL SERVICIO INTEGRADO DE SEGURIDAD ECU 911 A NIVEL NACIONAL E INTERNACIONAL | D21: INCREMENTAR LA EFICIENCIA Y EFICACIA DE LA COORDINACIÓN PARA LA ATENCIÓN DE EMERGENCIAS MEDIANTE EL FORTALECIMIENTO DE LA COOPERACIÓN INTERINSTITUCIONAL, POTENCIACIÓN DE LAS FUNCIONALIDADES DE LA INFRAESTRUCTURA TECNOLÓGICA, CAPACITACIÓN PERMANENTE DEL PERSONAL Y EL MEJORAMIENTO CONTINUO DE LOS ESTÁNDARES DE CALIDAD EN SUS SERVICIOS, PROCESOS, CLIMA LABORAL Y POSICIONAMIENTO INSTITUCIONAL. | E21: COORDINACIÓN_ZONAL | F21: COORDINACIÓN_ZONAL_1 | G21: GESTIÓN LOCAL DE COMUNICACIÓN SOCIAL | H21: =VLOOKUP(Tabla6[[#This Row],[DIRECCIÓN]],DIRECCIÓN[#All],2,0) -> COMUNICACIÓN SOCIAL | I21: ADQUISICIÓN DE PELOTAS ANTI ESTRES CON EL LOGO INSTITUCIONAL PARA VINCULACIÓN CON LA COMUNIDAD | J21: 3 | K21: =VLOOKUP(Tabla6[[#This Row],[DIRECCIÓN GENERAL / COORDINACIÓN / SUBDIRECCIÓN]],Tabla37[[#All],[Columna1]:[EOD]],2,0) -> 266_0001 | L21: =VLOOKUP(Tabla6[[#This Row],[OBJETIVOS PND]],Listas!$A$1:$C$3,3,0) -> 1 | M21: =VLOOKUP(Tabla6[[#This Row],[PG]],Listas2!$G$14:$K$16,5,0) -> 0 | N21: 1 | O21: 401 | P21: =VLOOKUP(Tabla6[[#This Row],[GEO]],Listas!$A$48:$B$77,2,0) -> TULCÁN | Q21: =VLOOKUP(Tabla6[[#This Row],[PG]],Listas2!$G$14:$K$16,3,0) -> 1 | R21: =VLOOKUP(Tabla6[[#This Row],[PG]],Listas2!H26:'Listas2'!$G$14:$K$16,4,0) -> 0 | S21: =VLOOKUP(Tabla6[[#This Row],[PG]],Listas2!$G$14:$K$16,2,0) -> 0 | T21: CORRIENTE | U21: 53 | V21: 530204 | W21: =VLOOKUP(Tabla6[[#This Row],[ÍTEM PRESUPUESTARIO]],Tabla2[#All],2,0) -> EDICIÓN, IMPRESIÓN, REPRODUCCIÓN, PUBLICACIONES, SUSCRIPCIONES, FOTOCOPIADO, TRADUCCIÓN, EMPASTADO, ENMARCACIÓN, SERIGRAFÍA, FOTOGRAFÍA, CARNETIZACIÓN, FILMACIÓN E IMÁGENES SATELITALES | X21: 200 | Y21: =200-200 -> 0 | Z21: 0 | AA21: 0 | AB21: 0 | AC21: 0 | AD21: 0 | AE21: 0 | AF21: 0 | AG21: 0 | AH21: 0 | AI21: 0 | AJ21: 0 | AK21: 0 | AL21: =+SUBTOTAL(9,Tabla6[[#This Row],[ENE]:[DIC]]) -> 0 | AM21: =IF(AL21=Y21,"OK",Y21-AL21) -> OK | AN21: 0 | AO21: =+Tabla6[[#This Row],[PRESUPUESTO VIGENTE]]-Tabla6[[#This Row],[CERTIFICACIÓN PAPP]] -> 0 | AP21: 0
A22: OBJETIVO 14: FORTALECER LAS CAPACIDADES DEL ESTADO CON ÉNFASIS EN LA ADMINISTRACIÓN DE JUSTICIA Y EFICIENCIA EN LOS PROCESOS DE REGULACIÓN Y CONTROL CON INDEPENDENCIA Y AUTONOMÍA. | B22: =VLOOKUP(Tabla6[[#This Row],[OBJETIVOS PND]],Listas!$A$1:$B$3,2,0) -> 14.2 POTENCIAR LAS CAPACIDADES DE LOS DISTINTOS NIVELES DE GOBIERNO PARA EL CUMPLIMIENTO DE LOS OBJETIVOS NACIONALES Y LA PRESTACIÓN DE SERVICIOS CON CALIDAD | C22: OE 4 FORTALECER LAS CAPACIDADES INSTITUCIONALES (PARA LA MEJORA CONTINUA DEL SERVICIO) | D22: INCREMENTAR LA EFICIENCIA Y EFICACIA DE LA COORDINACIÓN PARA LA ATENCIÓN DE EMERGENCIAS MEDIANTE EL FORTALECIMIENTO DE LA COOPERACIÓN INTERINSTITUCIONAL, POTENCIACIÓN DE LAS FUNCIONALIDADES DE LA INFRAESTRUCTURA TECNOLÓGICA, CAPACITACIÓN PERMANENTE DEL PERSONAL Y EL MEJORAMIENTO CONTINUO DE LOS ESTÁNDARES DE CALIDAD EN SUS SERVICIOS, PROCESOS, CLIMA LABORAL Y POSICIONAMIENTO INSTITUCIONAL. | E22: COORDINACIÓN_ZONAL | F22: COORDINACIÓN_ZONAL_1 | G22: GESTIÓN LOCAL ADMINISTRATIVA FINANCIERA Y DE ADMINISTRACIÓN DE RECURSOS HUMANOS | H22: =VLOOKUP(Tabla6[[#This Row],[DIRECCIÓN]],DIRECCIÓN[#All],2,0) -> ADMINISTRACIÓN CENTRAL | I22: ADQUISICIÓN DE BIENES Y PAGO DE SERVICIOS NO PREVISIBLES, URGENTES Y DE VALOR REDUCIDO (CAJA CHICA) | J22: 1 | K22: =VLOOKUP(Tabla6[[#This Row],[DIRECCIÓN GENERAL / COORDINACIÓN / SUBDIRECCIÓN]],Tabla37[[#All],[Columna1]:[EOD]],2,0) -> 266_0001 | L22: =VLOOKUP(Tabla6[[#This Row],[OBJETIVOS PND]],Listas!$A$1:$C$3,3,0) -> 1 | M22: =VLOOKUP(Tabla6[[#This Row],[PG]],Listas2!$G$14:$K$16,5,0) -> 0 | N22: 1 | O22: 401 | P22: =VLOOKUP(Tabla6[[#This Row],[GEO]],Listas!$A$48:$B$77,2,0) -> TULCÁN | Q22: =VLOOKUP(Tabla6[[#This Row],[PG]],Listas2!$G$14:$K$16,3,0) -> 1 | R22: =VLOOKUP(Tabla6[[#This Row],[PG]],Listas2!H27:'Listas2'!$G$14:$K$16,4,0) -> 0 | S22: =VLOOKUP(Tabla6[[#This Row],[PG]],Listas2!$G$14:$K$16,2,0) -> 0 | T22: CORRIENTE | U22: 53 | V22: 530204 | W22: =VLOOKUP(Tabla6[[#This Row],[ÍTEM PRESUPUESTARIO]],Tabla2[#All],2,0) -> EDICIÓN, IMPRESIÓN, REPRODUCCIÓN, PUBLICACIONES, SUSCRIPCIONES, FOTOCOPIADO, TRADUCCIÓN, EMPASTADO, ENMARCACIÓN, SERIGRAFÍA, FOTOGRAFÍA, CARNETIZACIÓN, FILMACIÓN E IMÁGENES SATELITALES | X22: 100 | Y22: =100-50-6.3+6.3-4.6 -> 45.4 | Z22: 0 | AA22: 0 | AB22: 0 | AC22: 0 | AD22: 0 | AE22: 0 | AF22: 0 | AG22: 0 | AH22: 0 | AI22: 0 | AJ22: 0 | AK22: 45.4 | AL22: =+SUBTOTAL(9,Tabla6[[#This Row],[ENE]:[DIC]]) -> 45.4 | AM22: =IF(AL22=Y22,"OK",Y22-AL22) -> OK | AN22: 45.4 | AO22: =+Tabla6[[#This Row],[PRESUPUESTO VIGENTE]]-Tabla6[[#This Row],[CERTIFICACIÓN PAPP]] -> 0 | AP22: R
A23: OBJETIVO 14: FORTALECER LAS CAPACIDADES DEL ESTADO CON ÉNFASIS EN LA ADMINISTRACIÓN DE JUSTICIA Y EFICIENCIA EN LOS PROCESOS DE REGULACIÓN Y CONTROL CON INDEPENDENCIA Y AUTONOMÍA. | B23: =VLOOKUP(Tabla6[[#This Row],[OBJETIVOS PND]],Listas!$A$1:$B$3,2,0) -> 14.2 POTENCIAR LAS CAPACIDADES DE LOS DISTINTOS NIVELES DE GOBIERNO PARA EL CUMPLIMIENTO DE LOS OBJETIVOS NACIONALES Y LA PRESTACIÓN DE SERVICIOS CON CALIDAD | C23: OE 4 FORTALECER LAS CAPACIDADES INSTITUCIONALES (PARA LA MEJORA CONTINUA DEL SERVICIO) | D23: INCREMENTAR LA EFICIENCIA Y EFICACIA DE LA COORDINACIÓN PARA LA ATENCIÓN DE EMERGENCIAS MEDIANTE EL FORTALECIMIENTO DE LA COOPERACIÓN INTERINSTITUCIONAL, POTENCIACIÓN DE LAS FUNCIONALIDADES DE LA INFRAESTRUCTURA TECNOLÓGICA, CAPACITACIÓN PERMANENTE DEL PERSONAL Y EL MEJORAMIENTO CONTINUO DE LOS ESTÁNDARES DE CALIDAD EN SUS SERVICIOS, PROCESOS, CLIMA LABORAL Y POSICIONAMIENTO INSTITUCIONAL. | E23: COORDINACIÓN_ZONAL | F23: COORDINACIÓN_ZONAL_1 | G23: GESTIÓN LOCAL ADMINISTRATIVA FINANCIERA Y DE ADMINISTRACIÓN DE RECURSOS HUMANOS | H23: =VLOOKUP(Tabla6[[#This Row],[DIRECCIÓN]],DIRECCIÓN[#All],2,0) -> ADMINISTRACIÓN CENTRAL | I23: ARRASTRE: CANCELACIÓN POR EL SERVICIO DE LIMPIEZA DEL CENTRO OPERATIVO LOCAL ECU 911 TULCÁN DICIEMBRE DEL 2022 | J23: 1 | K23: =VLOOKUP(Tabla6[[#This Row],[DIRECCIÓN GENERAL / COORDINACIÓN / SUBDIRECCIÓN]],Tabla37[[#All],[Columna1]:[EOD]],2,0) -> 266_0001 | L23: =VLOOKUP(Tabla6[[#This Row],[OBJETIVOS PND]],Listas!$A$1:$C$3,3,0) -> 1 | M23: =VLOOKUP(Tabla6[[#This Row],[PG]],Listas2!$G$14:$K$16,5,0) -> 0 | N23: 1 | O23: 401 | P23: =VLOOKUP(Tabla6[[#This Row],[GEO]],Listas!$A$48:$B$77,2,0) -> TULCÁN | Q23: =VLOOKUP(Tabla6[[#This Row],[PG]],Listas2!$G$14:$K$16,3,0) -> 1 | R23: =VLOOKUP(Tabla6[[#This Row],[PG]],Listas2!H28:'Listas2'!$G$14:$K$16,4,0) -> 0 | S23: =VLOOKUP(Tabla6[[#This Row],[PG]],Listas2!$G$14:$K$16,2,0) -> 0 | T23: CORRIENTE | U23: 53 | V23: 530209 | W23: =VLOOKUP(Tabla6[[#This Row],[ÍTEM PRESUPUESTARIO]],Tabla2[#All],2,0) -> SERVICIOS DE ASEO, LAVADO DE VESTIMENTA DE TRABAJO, FUMIGACIÓN, DESINFECCIÓN, LIMPIEZA DE INSTALACIONES, MANEJO DE DESECHOS CONTAMINADOS, RECUPERACIÓN Y CLASIFICACIÓN DE MATERIALES RECICLABLES | X23: 2956 | Y23: =2956-0.61 -> 2955.39 | Z23: 2955.39 | AA23: 0 | AB23: 0 | AC23: 0 | AD23: 0 | AE23: 0 | AF23: 0 | AG23: 0 | AH23: 0 | AI23: 0 | AJ23: 0 | AK23: 0 | AL23: =+SUBTOTAL(9,Tabla6[[#This Row],[ENE]:[DIC]]) -> 2955.39 | AM23: =IF(AL23=Y23,"OK",Y23-AL23) -> OK | AN23: 2955.39 | AO23: =+Tabla6[[#This Row],[PRESUPUESTO VIGENTE]]-Tabla6[[#This Row],[CERTIFICACIÓN PAPP]] -> 0 | AP23: 0
A24: OBJETIVO 14: FORTALECER LAS CAPACIDADES DEL ESTADO CON ÉNFASIS EN LA ADMINISTRACIÓN DE JUSTICIA Y EFICIENCIA EN LOS PROCESOS DE REGULACIÓN Y CONTROL CON INDEPENDENCIA Y AUTONOMÍA. | B24: =VLOOKUP(Tabla6[[#This Row],[OBJETIVOS PND]],Listas!$A$1:$B$3,2,0) -> 14.2 POTENCIAR LAS CAPACIDADES DE LOS DISTINTOS NIVELES DE GOBIERNO PARA EL CUMPLIMIENTO DE LOS OBJETIVOS NACIONALES Y LA PRESTACIÓN DE SERVICIOS CON CALIDAD | C24: OE 4 FORTALECER LAS CAPACIDADES INSTITUCIONALES (PARA LA MEJORA CONTINUA DEL SERVICIO) | D24: INCREMENTAR LA EFICIENCIA Y EFICACIA DE LA COORDINACIÓN PARA LA ATENCIÓN DE EMERGENCIAS MEDIANTE EL FORTALECIMIENTO DE LA COOPERACIÓN INTERINSTITUCIONAL, POTENCIACIÓN DE LAS FUNCIONALIDADES DE LA INFRAESTRUCTURA TECNOLÓGICA, CAPACITACIÓN PERMANENTE DEL PERSONAL Y EL MEJORAMIENTO CONTINUO DE LOS ESTÁNDARES DE CALIDAD EN SUS SERVICIOS, PROCESOS, CLIMA LABORAL Y POSICIONAMIENTO INSTITUCIONAL. | E24: COORDINACIÓN_ZONAL | F24: COORDINACIÓN_ZONAL_1 | G24: GESTIÓN LOCAL ADMINISTRATIVA FINANCIERA Y DE ADMINISTRACIÓN DE RECURSOS HUMANOS | H24: =VLOOKUP(Tabla6[[#This Row],[DIRECCIÓN]],DIRECCIÓN[#All],2,0) -> ADMINISTRACIÓN CENTRAL | I24: CONTRATACIÓN DEL SERVICIO DE LIMPIEZA PARA EL CENTRO OPERATIVO LOCAL ECU 911 TULCÁN PERÍODO 2023 SE PAGA A MES VENCIDO | J24: 1 | K24: =VLOOKUP(Tabla6[[#This Row],[DIRECCIÓN GENERAL / COORDINACIÓN / SUBDIRECCIÓN]],Tabla37[[#All],[Columna1]:[EOD]],2,0) -> 266_0001 | L24: =VLOOKUP(Tabla6[[#This Row],[OBJETIVOS PND]],Listas!$A$1:$C$3,3,0) -> 1 | M24: =VLOOKUP(Tabla6[[#This Row],[PG]],Listas2!$G$14:$K$16,5,0) -> 0 | N24: 1 | O24: 401 | P24: =VLOOKUP(Tabla6[[#This Row],[GEO]],Listas!$A$48:$B$77,2,0) -> TULCÁN | Q24: =VLOOKUP(Tabla6[[#This Row],[PG]],Listas2!$G$14:$K$16,3,0) -> 1 | R24: =VLOOKUP(Tabla6[[#This Row],[PG]],Listas2!H29:'Listas2'!$G$14:$K$16,4,0) -> 0 | S24: =VLOOKUP(Tabla6[[#This Row],[PG]],Listas2!$G$14:$K$16,2,0) -> 0 | T24: CORRIENTE | U24: 53 | V24: 530209 | W24: =VLOOKUP(Tabla6[[#This Row],[ÍTEM PRESUPUESTARIO]],Tabla2[#All],2,0) -> SERVICIOS DE ASEO, LAVADO DE VESTIMENTA DE TRABAJO, FUMIGACIÓN, DESINFECCIÓN, LIMPIEZA DE INSTALACIONES, MANEJO DE DESECHOS CONTAMINADOS, RECUPERACIÓN Y CLASIFICACIÓN DE MATERIALES RECICLABLES | X24: 15000 | Y24: =15000+20472-7.32-1477.69-1477.7 -> 32509.29 | Z24: 0 | AA24: 2955.39 | AB24: 2955.39 | AC24: 2955.39 | AD24: 2955.39 | AE24: 2955.39 | AF24: 2955.39 | AG24: 2955.39 | AH24: 2955.39 | AI24: 2955.39 | AJ24: 2955.39 | AK24: 2955.39 | AL24: =+SUBTOTAL(9,Tabla6[[#This Row],[ENE]:[DIC]]) -> 32509.29 | AM24: =IF(AL24=Y24,"OK",Y24-AL24) -> OK | AN24: =17732.34+17732.34-2955.39 -> 32509.29 | AO24: =+Tabla6[[#This Row],[PRESUPUESTO VIGENTE]]-Tabla6[[#This Row],[CERTIFICACIÓN PAPP]] -> 0 | AP24: 0
A25: OBJETIVO 14: FORTALECER LAS CAPACIDADES DEL ESTADO CON ÉNFASIS EN LA ADMINISTRACIÓN DE JUSTICIA Y EFICIENCIA EN LOS PROCESOS DE REGULACIÓN Y CONTROL CON INDEPENDENCIA Y AUTONOMÍA. | B25: =VLOOKUP(Tabla6[[#This Row],[OBJETIVOS PND]],Listas!$A$1:$B$3,2,0) -> 14.2 POTENCIAR LAS CAPACIDADES DE LOS DISTINTOS NIVELES DE GOBIERNO PARA EL CUMPLIMIENTO DE LOS OBJETIVOS NACIONALES Y LA PRESTACIÓN DE SERVICIOS CON CALIDAD | C25: OE 4 FORTALECER LAS CAPACIDADES INSTITUCIONALES (PARA LA MEJORA CONTINUA DEL SERVICIO) | D25: INCREMENTAR LA EFICIENCIA Y EFICACIA DE LA COORDINACIÓN PARA LA ATENCIÓN DE EMERGENCIAS MEDIANTE EL FORTALECIMIENTO DE LA COOPERACIÓN INTERINSTITUCIONAL, POTENCIACIÓN DE LAS FUNCIONALIDADES DE LA INFRAESTRUCTURA TECNOLÓGICA, CAPACITACIÓN PERMANENTE DEL PERSONAL Y EL MEJORAMIENTO CONTINUO DE LOS ESTÁNDARES DE CALIDAD EN SUS SERVICIOS, PROCESOS, CLIMA LABORAL Y POSICIONAMIENTO INSTITUCIONAL. | E25: COORDINACIÓN_ZONAL | F25: COORDINACIÓN_ZONAL_1 | G25: GESTIÓN LOCAL ADMINISTRATIVA FINANCIERA Y DE ADMINISTRACIÓN DE RECURSOS HUMANOS | H25: =VLOOKUP(Tabla6[[#This Row],[DIRECCIÓN]],DIRECCIÓN[#All],2,0) -> ADMINISTRACIÓN CENTRAL | I25: CANCELACIÓN DE SERVICIOS DE GUARDERÍA DEL CENTRO OPERATIVO LOCAL SIS ECU 911 TULCÁN EN CUMPLIMIENTO AL ACUERDO MINISTERIAL Nro. MDT-2023-085 | J25: 2 | K25: =VLOOKUP(Tabla6[[#This Row],[DIRECCIÓN GENERAL / COORDINACIÓN / SUBDIRECCIÓN]],Tabla37[[#All],[Columna1]:[EOD]],2,0) -> 266_0001 | L25: =VLOOKUP(Tabla6[[#This Row],[OBJETIVOS PND]],Listas!$A$1:$C$3,3,0) -> 1 | M25: =VLOOKUP(Tabla6[[#This Row],[PG]],Listas2!$G$14:$K$16,5,0) -> 0 | N25: 1 | O25: 401 | P25: =VLOOKUP(Tabla6[[#This Row],[GEO]],Listas!$A$48:$B$77,2,0) -> TULCÁN | Q25: =VLOOKUP(Tabla6[[#This Row],[PG]],Listas2!$G$14:$K$16,3,0) -> 1 | R25: =VLOOKUP(Tabla6[[#This Row],[PG]],Listas2!H30:'Listas2'!$G$14:$K$16,4,0) -> 0 | S25: =VLOOKUP(Tabla6[[#This Row],[PG]],Listas2!$G$14:$K$16,2,0) -> 0 | T25: CORRIENTE | U25: 53 | V25: 530210 | W25: =VLOOKUP(Tabla6[[#This Row],[ÍTEM PRESUPUESTARIO]],Tabla2[#All],2,0) -> SERVICIO DE GUARDERÍA | X25: 0 | Y25: =2511-2511 -> 0 | Z25: 0 | AA25: 0 | AB25: 0 | AC25: 0 | AD25: 0 | AE25: 0 | AF25: 0 | AG25: 0 | AH25: 0 | AI25: 0 | AJ25: 0 | AK25: 0 | AL25: =+SUBTOTAL(9,Tabla6[[#This Row],[ENE]:[DIC]]) -> 0 | AM25: =IF(AL25=Y25,"OK",Y25-AL25) -> OK | AN25: 0 | AO25: =+Tabla6[[#This Row],[PRESUPUESTO VIGENTE]]-Tabla6[[#This Row],[CERTIFICACIÓN PAPP]] -> 0 | AP25: 0
A26: OBJETIVO 14: FORTALECER LAS CAPACIDADES DEL ESTADO CON ÉNFASIS EN LA ADMINISTRACIÓN DE JUSTICIA Y EFICIENCIA EN LOS PROCESOS DE REGULACIÓN Y CONTROL CON INDEPENDENCIA Y AUTONOMÍA. | B26: =VLOOKUP(Tabla6[[#This Row],[OBJETIVOS PND]],Listas!$A$1:$B$3,2,0) -> 14.2 POTENCIAR LAS CAPACIDADES DE LOS DISTINTOS NIVELES DE GOBIERNO PARA EL CUMPLIMIENTO DE LOS OBJETIVOS NACIONALES Y LA PRESTACIÓN DE SERVICIOS CON CALIDAD | C26: OE 4 FORTALECER LAS CAPACIDADES INSTITUCIONALES (PARA LA MEJORA CONTINUA DEL SERVICIO) | D26: INCREMENTAR LA EFICIENCIA Y EFICACIA DE LA COORDINACIÓN PARA LA ATENCIÓN DE EMERGENCIAS MEDIANTE EL FORTALECIMIENTO DE LA COOPERACIÓN INTERINSTITUCIONAL, POTENCIACIÓN DE LAS FUNCIONALIDADES DE LA INFRAESTRUCTURA TECNOLÓGICA, CAPACITACIÓN PERMANENTE DEL PERSONAL Y EL MEJORAMIENTO CONTINUO DE LOS ESTÁNDARES DE CALIDAD EN SUS SERVICIOS, PROCESOS, CLIMA LABORAL Y POSICIONAMIENTO INSTITUCIONAL. | E26: COORDINACIÓN_ZONAL | F26: COORDINACIÓN_ZONAL_1 | G26: GESTIÓN LOCAL ADMINISTRATIVA FINANCIERA Y DE ADMINISTRACIÓN DE RECURSOS HUMANOS | H26: =VLOOKUP(Tabla6[[#This Row],[DIRECCIÓN]],DIRECCIÓN[#All],2,0) -> ADMINISTRACIÓN CENTRAL | I26: CONTRATACIÓN DEL SERVICIO DE RASTREO SATELITAL (GPS) INCLUYE EQUIPOS A PRÉSTAMO PARA LOS VEHÍCULOS DEL CENTRO OPERATIVO LOCAL ECU 911 TULCÁN | J26: 2 | K26: =VLOOKUP(Tabla6[[#This Row],[DIRECCIÓN GENERAL / COORDINACIÓN / SUBDIRECCIÓN]],Tabla37[[#All],[Columna1]:[EOD]],2,0) -> 266_0001 | L26: =VLOOKUP(Tabla6[[#This Row],[OBJETIVOS PND]],Listas!$A$1:$C$3,3,0) -> 1 | M26: =VLOOKUP(Tabla6[[#This Row],[PG]],Listas2!$G$14:$K$16,5,0) -> 0 | N26: 1 | O26: 401 | P26: =VLOOKUP(Tabla6[[#This Row],[GEO]],Listas!$A$48:$B$77,2,0) -> TULCÁN | Q26: =VLOOKUP(Tabla6[[#This Row],[PG]],Listas2!$G$14:$K$16,3,0) -> 1 | R26: =VLOOKUP(Tabla6[[#This Row],[PG]],Listas2!H31:'Listas2'!$G$14:$K$16,4,0) -> 0 | S26: =VLOOKUP(Tabla6[[#This Row],[PG]],Listas2!$G$14:$K$16,2,0) -> 0 | T26: CORRIENTE | U26: 53 | V26: 530246 | W26: =VLOOKUP(Tabla6[[#This Row],[ÍTEM PRESUPUESTARIO]],Tabla2[#All],2,0) -> SERVICIOS DE IDENTIFICACIÓN, MARCACIÓN, AUTENTIFICACIÓN, RASTREO, MONITOREO, SEGUIMIENTO Y/O TRAZABILIDAD | X26: 0 | Y26: =1000-680-69.28 -> 250.72 | Z26: 0 | AA26: 0 | AB26: 0 | AC26: 0 | AD26: 250.72 | AE26: 0 | AF26: 0 | AG26: 0 | AH26: 0 | AI26: 0 | AJ26: 0 | AK26: 0 | AL26: =+SUBTOTAL(9,Tabla6[[#This Row],[ENE]:[DIC]]) -> 250.72 | AM26: =IF(AL26=Y26,"OK",Y26-AL26) -> OK | AN26: =320-69.28 -> 250.72 | AO26: =+Tabla6[[#This Row],[PRESUPUESTO VIGENTE]]-Tabla6[[#This Row],[CERTIFICACIÓN PAPP]] -> 0 | AP26: R
A27: OBJETIVO 14: FORTALECER LAS CAPACIDADES DEL ESTADO CON ÉNFASIS EN LA ADMINISTRACIÓN DE JUSTICIA Y EFICIENCIA EN LOS PROCESOS DE REGULACIÓN Y CONTROL CON INDEPENDENCIA Y AUTONOMÍA. | B27: =VLOOKUP(Tabla6[[#This Row],[OBJETIVOS PND]],Listas!$A$1:$B$3,2,0) -> 14.2 POTENCIAR LAS CAPACIDADES DE LOS DISTINTOS NIVELES DE GOBIERNO PARA EL CUMPLIMIENTO DE LOS OBJETIVOS NACIONALES Y LA PRESTACIÓN DE SERVICIOS CON CALIDAD | C27: OE 4 FORTALECER LAS CAPACIDADES INSTITUCIONALES (PARA LA MEJORA CONTINUA DEL SERVICIO) | D27: INCREMENTAR LA EFICIENCIA Y EFICACIA DE LA COORDINACIÓN PARA LA ATENCIÓN DE EMERGENCIAS MEDIANTE EL FORTALECIMIENTO DE LA COOPERACIÓN INTERINSTITUCIONAL, POTENCIACIÓN DE LAS FUNCIONALIDADES DE LA INFRAESTRUCTURA TECNOLÓGICA, CAPACITACIÓN PERMANENTE DEL PERSONAL Y EL MEJORAMIENTO CONTINUO DE LOS ESTÁNDARES DE CALIDAD EN SUS SERVICIOS, PROCESOS, CLIMA LABORAL Y POSICIONAMIENTO INSTITUCIONAL. | E27: COORDINACIÓN_ZONAL | F27: COORDINACIÓN_ZONAL_1 | G27: GESTIÓN LOCAL ADMINISTRATIVA FINANCIERA Y DE ADMINISTRACIÓN DE RECURSOS HUMANOS | H27: =VLOOKUP(Tabla6[[#This Row],[DIRECCIÓN]],DIRECCIÓN[#All],2,0) -> ADMINISTRACIÓN CENTRAL | I27: ADQUISICIÓN DE COMBUSTIBLES PARA MOVILIZACIÓN DE VEHÍCULOS DEL CENTRO PERÍODO 2023 | J27: 1 | K27: =VLOOKUP(Tabla6[[#This Row],[DIRECCIÓN GENERAL / COORDINACIÓN / SUBDIRECCIÓN]],Tabla37[[#All],[Columna1]:[EOD]],2,0) -> 266_0001 | L27: =VLOOKUP(Tabla6[[#This Row],[OBJETIVOS PND]],Listas!$A$1:$C$3,3,0) -> 1 | M27: =VLOOKUP(Tabla6[[#This Row],[PG]],Listas2!$G$14:$K$16,5,0) -> 0 | N27: 1 | O27: 401 | P27: =VLOOKUP(Tabla6[[#This Row],[GEO]],Listas!$A$48:$B$77,2,0) -> TULCÁN | Q27: =VLOOKUP(Tabla6[[#This Row],[PG]],Listas2!$G$14:$K$16,3,0) -> 1 | R27: =VLOOKUP(Tabla6[[#This Row],[PG]],Listas2!H32:'Listas2'!$G$14:$K$16,4,0) -> 0 | S27: =VLOOKUP(Tabla6[[#This Row],[PG]],Listas2!$G$14:$K$16,2,0) -> 0 | T27: CORRIENTE | U27: 53 | V27: 530255 | W27: =VLOOKUP(Tabla6[[#This Row],[ÍTEM PRESUPUESTARIO]],Tabla2[#All],2,0) -> COMBUSTIBLES | X27: 0 | Y27: =1600-300-153.13 -> 1146.87 | Z27: 0 | AA27: 0 | AB27: 0 | AC27: 0 | AD27: 0 | AE27: 300 | AF27: 0 | AG27: 300 | AH27: 0 | AI27: 300 | AJ27: 0 | AK27: 246.87 | AL27: =+SUBTOTAL(9,Tabla6[[#This Row],[ENE]:[DIC]]) -> 1146.87 | AM27: =IF(AL27=Y27,"OK",Y27-AL27) -> OK | AN27: 1146.87 | AO27: =+Tabla6[[#This Row],[PRESUPUESTO VIGENTE]]-Tabla6[[#This Row],[CERTIFICACIÓN PAPP]] -> 0 | AP27: R
A28: OBJETIVO 14: FORTALECER LAS CAPACIDADES DEL ESTADO CON ÉNFASIS EN LA ADMINISTRACIÓN DE JUSTICIA Y EFICIENCIA EN LOS PROCESOS DE REGULACIÓN Y CONTROL CON INDEPENDENCIA Y AUTONOMÍA. | B28: =VLOOKUP(Tabla6[[#This Row],[OBJETIVOS PND]],Listas!$A$1:$B$3,2,0) -> 14.2 POTENCIAR LAS CAPACIDADES DE LOS DISTINTOS NIVELES DE GOBIERNO PARA EL CUMPLIMIENTO DE LOS OBJETIVOS NACIONALES Y LA PRESTACIÓN DE SERVICIOS CON CALIDAD | C28: OE 4 FORTALECER LAS CAPACIDADES INSTITUCIONALES (PARA LA MEJORA CONTINUA DEL SERVICIO) | D28: INCREMENTAR LA EFICIENCIA Y EFICACIA DE LA COORDINACIÓN PARA LA ATENCIÓN DE EMERGENCIAS MEDIANTE EL FORTALECIMIENTO DE LA COOPERACIÓN INTERINSTITUCIONAL, POTENCIACIÓN DE LAS FUNCIONALIDADES DE LA INFRAESTRUCTURA TECNOLÓGICA, CAPACITACIÓN PERMANENTE DEL PERSONAL Y EL MEJORAMIENTO CONTINUO DE LOS ESTÁNDARES DE CALIDAD EN SUS SERVICIOS, PROCESOS, CLIMA LABORAL Y POSICIONAMIENTO INSTITUCIONAL. | E28: COORDINACIÓN_ZONAL | F28: COORDINACIÓN_ZONAL_1 | G28: GESTIÓN LOCAL ADMINISTRATIVA FINANCIERA Y DE ADMINISTRACIÓN DE RECURSOS HUMANOS | H28: =VLOOKUP(Tabla6[[#This Row],[DIRECCIÓN]],DIRECCIÓN[#All],2,0) -> ADMINISTRACIÓN CENTRAL | I28: ADQUISICIÓN DE COMBUSTIBLES PERÍODO 2023 PARA ABASTECIMIENTO DE GENERADORES | J28: 1 | K28: =VLOOKUP(Tabla6[[#This Row],[DIRECCIÓN GENERAL / COORDINACIÓN / SUBDIRECCIÓN]],Tabla37[[#All],[Columna1]:[EOD]],2,0) -> 266_0001 | L28: =VLOOKUP(Tabla6[[#This Row],[OBJETIVOS PND]],Listas!$A$1:$C$3,3,0) -> 1 | M28: =VLOOKUP(Tabla6[[#This Row],[PG]],Listas2!$G$14:$K$16,5,0) -> 0 | N28: 1 | O28: 401 | P28: =VLOOKUP(Tabla6[[#This Row],[GEO]],Listas!$A$48:$B$77,2,0) -> TULCÁN | Q28: =VLOOKUP(Tabla6[[#This Row],[PG]],Listas2!$G$14:$K$16,3,0) -> 1 | R28: =VLOOKUP(Tabla6[[#This Row],[PG]],Listas2!H33:'Listas2'!$G$14:$K$16,4,0) -> 0 | S28: =VLOOKUP(Tabla6[[#This Row],[PG]],Listas2!$G$14:$K$16,2,0) -> 0 | T28: CORRIENTE | U28: 53 | V28: 530255 | W28: =VLOOKUP(Tabla6[[#This Row],[ÍTEM PRESUPUESTARIO]],Tabla2[#All],2,0) -> COMBUSTIBLES | X28: 0 | Y28: =475-75-9.37+563-563 -> 390.63 | Z28: 0 | AA28: 0 | AB28: 0 | AC28: 0 | AD28: 0 | AE28: 0 | AF28: 0 | AG28: 0 | AH28: 390.63 | AI28: 0 | AJ28: 0 | AK28: 0 | AL28: =+SUBTOTAL(9,Tabla6[[#This Row],[ENE]:[DIC]]) -> 390.63 | AM28: =IF(AL28=Y28,"OK",Y28-AL28) -> OK | AN28: 390.63 | AO28: =+Tabla6[[#This Row],[PRESUPUESTO VIGENTE]]-Tabla6[[#This Row],[CERTIFICACIÓN PAPP]] -> 0 | AP28: 0
A29: OBJETIVO 14: FORTALECER LAS CAPACIDADES DEL ESTADO CON ÉNFASIS EN LA ADMINISTRACIÓN DE JUSTICIA Y EFICIENCIA EN LOS PROCESOS DE REGULACIÓN Y CONTROL CON INDEPENDENCIA Y AUTONOMÍA. | B29: =VLOOKUP(Tabla6[[#This Row],[OBJETIVOS PND]],Listas!$A$1:$B$3,2,0) -> 14.2 POTENCIAR LAS CAPACIDADES DE LOS DISTINTOS NIVELES DE GOBIERNO PARA EL CUMPLIMIENTO DE LOS OBJETIVOS NACIONALES Y LA PRESTACIÓN DE SERVICIOS CON CALIDAD | C29: OE 4 FORTALECER LAS CAPACIDADES INSTITUCIONALES (PARA LA MEJORA CONTINUA DEL SERVICIO) | D29: INCREMENTAR LA EFICIENCIA Y EFICACIA DE LA COORDINACIÓN PARA LA ATENCIÓN DE EMERGENCIAS MEDIANTE EL FORTALECIMIENTO DE LA COOPERACIÓN INTERINSTITUCIONAL, POTENCIACIÓN DE LAS FUNCIONALIDADES DE LA INFRAESTRUCTURA TECNOLÓGICA, CAPACITACIÓN PERMANENTE DEL PERSONAL Y EL MEJORAMIENTO CONTINUO DE LOS ESTÁNDARES DE CALIDAD EN SUS SERVICIOS, PROCESOS, CLIMA LABORAL Y POSICIONAMIENTO INSTITUCIONAL. | E29: COORDINACIÓN_ZONAL | F29: COORDINACIÓN_ZONAL_1 | G29: GESTIÓN LOCAL ADMINISTRATIVA FINANCIERA Y DE ADMINISTRACIÓN DE RECURSOS HUMANOS | H29: =VLOOKUP(Tabla6[[#This Row],[DIRECCIÓN]],DIRECCIÓN[#All],2,0) -> ADMINISTRACIÓN CENTRAL | I29: PROVISIÓN PARA MOVILIZACIONES TERRESTRES DE FUNCIONARIOS DEL ECU 911 POR ACTIVIDADES INSTITUCIONALES AÑO 2023 | J29: 1 | K29: =VLOOKUP(Tabla6[[#This Row],[DIRECCIÓN GENERAL / COORDINACIÓN / SUBDIRECCIÓN]],Tabla37[[#All],[Columna1]:[EOD]],2,0) -> 266_0001 | L29: =VLOOKUP(Tabla6[[#This Row],[OBJETIVOS PND]],Listas!$A$1:$C$3,3,0) -> 1 | M29: =VLOOKUP(Tabla6[[#This Row],[PG]],Listas2!$G$14:$K$16,5,0) -> 0 | N29: 1 | O29: 401 | P29: =VLOOKUP(Tabla6[[#This Row],[GEO]],Listas!$A$48:$B$77,2,0) -> TULCÁN | Q29: =VLOOKUP(Tabla6[[#This Row],[PG]],Listas2!$G$14:$K$16,3,0) -> 1 | R29: =VLOOKUP(Tabla6[[#This Row],[PG]],Listas2!H34:'Listas2'!$G$14:$K$16,4,0) -> 0 | S29: =VLOOKUP(Tabla6[[#This Row],[PG]],Listas2!$G$14:$K$16,2,0) -> 0 | T29: CORRIENTE | U29: 53 | V29: 530301 | W29: =VLOOKUP(Tabla6[[#This Row],[ÍTEM PRESUPUESTARIO]],Tabla2[#All],2,0) -> PASAJES AL INTERIOR | X29: 100 | Y29: =100-100 -> 0 | Z29: 0 | AA29: 0 | AB29: 0 | AC29: 0 | AD29: 0 | AE29: 0 | AF29: 0 | AG29: 0 | AH29: 0 | AI29: 0 | AJ29: 0 | AK29: 0 | AL29: =+SUBTOTAL(9,Tabla6[[#This Row],[ENE]:[DIC]]) -> 0 | AM29: =IF(AL29=Y29,"OK",Y29-AL29) -> OK | AN29: 0 | AO29: =+Tabla6[[#This Row],[PRESUPUESTO VIGENTE]]-Tabla6[[#This Row],[CERTIFICACIÓN PAPP]] -> 0 | AP29: 0
A30: OBJETIVO 14: FORTALECER LAS CAPACIDADES DEL ESTADO CON ÉNFASIS EN LA ADMINISTRACIÓN DE JUSTICIA Y EFICIENCIA EN LOS PROCESOS DE REGULACIÓN Y CONTROL CON INDEPENDENCIA Y AUTONOMÍA. | B30: =VLOOKUP(Tabla6[[#This Row],[OBJETIVOS PND]],Listas!$A$1:$B$3,2,0) -> 14.2 POTENCIAR LAS CAPACIDADES DE LOS DISTINTOS NIVELES DE GOBIERNO PARA EL CUMPLIMIENTO DE LOS OBJETIVOS NACIONALES Y LA PRESTACIÓN DE SERVICIOS CON CALIDAD | C30: OE 4 FORTALECER LAS CAPACIDADES INSTITUCIONALES (PARA LA MEJORA CONTINUA DEL SERVICIO) | D30: INCREMENTAR LA EFICIENCIA Y EFICACIA DE LA COORDINACIÓN PARA LA ATENCIÓN DE EMERGENCIAS MEDIANTE EL FORTALECIMIENTO DE LA COOPERACIÓN INTERINSTITUCIONAL, POTENCIACIÓN DE LAS FUNCIONALIDADES DE LA INFRAESTRUCTURA TECNOLÓGICA, CAPACITACIÓN PERMANENTE DEL PERSONAL Y EL MEJORAMIENTO CONTINUO DE LOS ESTÁNDARES DE CALIDAD EN SUS SERVICIOS, PROCESOS, CLIMA LABORAL Y POSICIONAMIENTO INSTITUCIONAL. | E30: COORDINACIÓN_ZONAL | F30: COORDINACIÓN_ZONAL_1 | G30: GESTIÓN LOCAL ADMINISTRATIVA FINANCIERA Y DE ADMINISTRACIÓN DE RECURSOS HUMANOS | H30: =VLOOKUP(Tabla6[[#This Row],[DIRECCIÓN]],DIRECCIÓN[#All],2,0) -> ADMINISTRACIÓN CENTRAL | I30: PROVISIÓN PARA ALIMENTACIÓN Y ESTADÍA DE LOS FUNCIONARIOS DEL CENTRO OPERATIVO LOCAL ECU 911 TULCÁN POR COMISIÓN FUERA DE LA PROVINCIA EN EL AÑO 2023 | J30: 1 | K30: =VLOOKUP(Tabla6[[#This Row],[DIRECCIÓN GENERAL / COORDINACIÓN / SUBDIRECCIÓN]],Tabla37[[#All],[Columna1]:[EOD]],2,0) -> 266_0001 | L30: =VLOOKUP(Tabla6[[#This Row],[OBJETIVOS PND]],Listas!$A$1:$C$3,3,0) -> 1 | M30: =VLOOKUP(Tabla6[[#This Row],[PG]],Listas2!$G$14:$K$16,5,0) -> 0 | N30: 1 | O30: 401 | P30: =VLOOKUP(Tabla6[[#This Row],[GEO]],Listas!$A$48:$B$77,2,0) -> TULCÁN | Q30: =VLOOKUP(Tabla6[[#This Row],[PG]],Listas2!$G$14:$K$16,3,0) -> 1 | R30: =VLOOKUP(Tabla6[[#This Row],[PG]],Listas2!H35:'Listas2'!$G$14:$K$16,4,0) -> 0 | S30: =VLOOKUP(Tabla6[[#This Row],[PG]],Listas2!$G$14:$K$16,2,0) -> 0 | T30: CORRIENTE | U30: 53 | V30: 530303 | W30: =VLOOKUP(Tabla6[[#This Row],[ÍTEM PRESUPUESTARIO]],Tabla2[#All],2,0) -> VIÁTICOS Y SUBSISTENCIAS EN EL INTERIOR | X30: 1500 | Y30: =1500+646.06+3075+3067.9+1500-750+2000-2750 -> 8288.96 | Z30: 0 | AA30: 0 | AB30: 0 | AC30: 0 | AD30: 0 | AE30: 0 | AF30: 0 | AG30: 0 | AH30: 0 | AI30: 0 | AJ30: 0 | AK30: 8288.96 | AL30: =+SUBTOTAL(9,Tabla6[[#This Row],[ENE]:[DIC]]) -> 8288.96 | AM30: =IF(AL30=Y30,"OK",Y30-AL30) -> OK | AN30: =1500-148.51+794.57-358.57+1833.57-172.21+4840.11 -> 8288.96 | AO30: =+Tabla6[[#This Row],[PRESUPUESTO VIGENTE]]-Tabla6[[#This Row],[CERTIFICACIÓN PAPP]] -> 0 | AP30: R
